BEGIN:VCALENDAR
VERSION:2.0
PRODID:-//RAIRC - ECPv6.15.15//NONSGML v1.0//EN
CALSCALE:GREGORIAN
METHOD:PUBLISH
X-ORIGINAL-URL:https://rairc.com
X-WR-CALDESC:Events for RAIRC
REFRESH-INTERVAL;VALUE=DURATION:PT1H
X-Robots-Tag:noindex
X-PUBLISHED-TTL:PT1H
BEGIN:VTIMEZONE
TZID:UTC
BEGIN:STANDARD
TZOFFSETFROM:+0000
TZOFFSETTO:+0000
TZNAME:UTC
DTSTART:20160101T000000
END:STANDARD
END:VTIMEZONE
BEGIN:VEVENT
DTSTART;TZID=UTC:20181129T130000
DTEND;TZID=UTC:20181129T160000
DTSTAMP:20260422T223008
CREATED:20180926T234333Z
LAST-MODIFIED:20180926T234333Z
UID:4079-1543496400-1543507200@rairc.com
SUMMARY:Code of Ethics
DESCRIPTION:This class satisfies the 3 hours required in ethics every 2 years with NAR. Discussion will focus on NAR’s 2018 edition of Code of Ethics and Standards of Practice as well as defining due process\, the functions of the Grievance and of the Professional Standards Committee\, mediation\, and arbitration. This course will also take you through hypothetical situations involving the code of ethics\, arbitration\, and a full study of procuring cause. Instructor: Richard Fryer
URL:https://rairc.com/event/code-of-ethics-2/
LOCATION:REALTORS Association of Indian River County\, 3250 67th Street\, Vero Beach\, FL\, 33037\, United States
ORGANIZER;CN="REALTORS Association of Indian River County":MAILTO:education@rairc.com
GEO:27.715576;-80.4192745
X-APPLE-STRUCTURED-LOCATION;VALUE=URI;X-ADDRESS=REALTORS Association of Indian River County 3250 67th Street Vero Beach FL 33037 United States;X-APPLE-RADIUS=500;X-TITLE=3250 67th Street:geo:-80.4192745,27.715576
END:VEVENT
BEGIN:VEVENT
DTSTART;TZID=UTC:20181011T130000
DTEND;TZID=UTC:20181011T160000
DTSTAMP:20260422T223008
CREATED:20180926T233903Z
LAST-MODIFIED:20180926T233903Z
UID:4072-1539262800-1539273600@rairc.com
SUMMARY:Code of Ethics
DESCRIPTION:This class satisfies the 3 hours required in ethics every 2 years with NAR. Discussion will focus on NAR’s 2018 edition of Code of Ethics and Standards of Practice as well as defining due process\, the functions of the Grievance and of the Professional Standards Committee\, mediation\, and arbitration. This course will also take you through hypothetical situations involving the code of ethics\, arbitration\, and a full study of procuring cause. Instructor: Richard Fryer
URL:https://rairc.com/event/code-of-ethics/
LOCATION:REALTORS Association of Indian River County\, 3250 67th Street\, Vero Beach\, FL\, 33037\, United States
ORGANIZER;CN="REALTORS Association of Indian River County":MAILTO:education@rairc.com
GEO:27.715576;-80.4192745
X-APPLE-STRUCTURED-LOCATION;VALUE=URI;X-ADDRESS=REALTORS Association of Indian River County 3250 67th Street Vero Beach FL 33037 United States;X-APPLE-RADIUS=500;X-TITLE=3250 67th Street:geo:-80.4192745,27.715576
END:VEVENT
BEGIN:VEVENT
DTSTART;TZID=UTC:20170208T140000
DTEND;TZID=UTC:20170208T153000
DTSTAMP:20260422T223008
CREATED:20170113T211106Z
LAST-MODIFIED:20170113T211106Z
UID:3398-1486562400-1486567800@rairc.com
SUMMARY:Professional Standards & Grievance
DESCRIPTION:Class is presented by RAIRC CEO Carol Hawk. By attending this class you will discover the functions of the Grievance & Professional Standards Committees. Class discussion will include the latest updates with the Code Of Ethics and with Procuring Cause. Cost is FREE to all REALTORS. No CEU’s earned by completing this class. NOTE: This class is MANDATORY for all members requesting to serve on the 2017 Grievance & Professional Standards Committees.
URL:https://rairc.com/event/professional-standards-grievance/
LOCATION:REALTORS Association of Indian River County\, 3250 67th Street\, Vero Beach\, FL\, 33037\, United States
CATEGORIES:Continuing Education
ORGANIZER;CN="REALTORS Association of Indian River County":MAILTO:education@rairc.com
GEO:27.715576;-80.4192745
X-APPLE-STRUCTURED-LOCATION;VALUE=URI;X-ADDRESS=REALTORS Association of Indian River County 3250 67th Street Vero Beach FL 33037 United States;X-APPLE-RADIUS=500;X-TITLE=3250 67th Street:geo:-80.4192745,27.715576
END:VEVENT
END:VCALENDAR