BEGIN:VCALENDAR
VERSION:2.0
PRODID:-//RAIRC - ECPv6.15.15//NONSGML v1.0//EN
CALSCALE:GREGORIAN
METHOD:PUBLISH
X-ORIGINAL-URL:https://rairc.com
X-WR-CALDESC:Events for RAIRC
REFRESH-INTERVAL;VALUE=DURATION:PT1H
X-Robots-Tag:noindex
X-PUBLISHED-TTL:PT1H
BEGIN:VTIMEZONE
TZID:UTC
BEGIN:STANDARD
TZOFFSETFROM:+0000
TZOFFSETTO:+0000
TZNAME:UTC
DTSTART:20170101T000000
END:STANDARD
END:VTIMEZONE
BEGIN:VEVENT
DTSTART;TZID=UTC:20181112T100000
DTEND;TZID=UTC:20181112T120000
DTSTAMP:20260424T004251
CREATED:20171130T130001Z
LAST-MODIFIED:20181005T203926Z
UID:3823-1542016800-1542024000@rairc.com
SUMMARY:MLS Training - Realist Tax
DESCRIPTION:Realist Tax – A customized public record / tax solution that is integrated with our web-based MLS
URL:https://rairc.com/event/11-05-2018-mlstraining-realisttax/
LOCATION:3250 67th Street\, Vero Beach\, FL\, 32967\, United States
CATEGORIES:
END:VEVENT
END:VCALENDAR