BEGIN:VCALENDAR
VERSION:2.0
PRODID:-//RAIRC - ECPv6.15.15//NONSGML v1.0//EN
CALSCALE:GREGORIAN
METHOD:PUBLISH
X-ORIGINAL-URL:https://rairc.com
X-WR-CALDESC:Events for RAIRC
REFRESH-INTERVAL;VALUE=DURATION:PT1H
X-Robots-Tag:noindex
X-PUBLISHED-TTL:PT1H
BEGIN:VTIMEZONE
TZID:America/New_York
BEGIN:DAYLIGHT
TZOFFSETFROM:-0500
TZOFFSETTO:-0400
TZNAME:EDT
DTSTART:20200308T070000
END:DAYLIGHT
BEGIN:STANDARD
TZOFFSETFROM:-0400
TZOFFSETTO:-0500
TZNAME:EST
DTSTART:20201101T060000
END:STANDARD
BEGIN:DAYLIGHT
TZOFFSETFROM:-0500
TZOFFSETTO:-0400
TZNAME:EDT
DTSTART:20210314T070000
END:DAYLIGHT
BEGIN:STANDARD
TZOFFSETFROM:-0400
TZOFFSETTO:-0500
TZNAME:EST
DTSTART:20211107T060000
END:STANDARD
BEGIN:DAYLIGHT
TZOFFSETFROM:-0500
TZOFFSETTO:-0400
TZNAME:EDT
DTSTART:20220313T070000
END:DAYLIGHT
BEGIN:STANDARD
TZOFFSETFROM:-0400
TZOFFSETTO:-0500
TZNAME:EST
DTSTART:20221106T060000
END:STANDARD
END:VTIMEZONE
BEGIN:VEVENT
DTSTART;TZID=America/New_York:20210712T100000
DTEND;TZID=America/New_York:20210712T100000
DTSTAMP:20260420T115803
CREATED:20201119T212310Z
LAST-MODIFIED:20201119T212310Z
UID:4875-1626084000-1626084000@rairc.com
SUMMARY:MLS Training - Basic
DESCRIPTION:Basic MLS Training includes using MLS Resource links\, adding search fields\,  hotsheets\, field related controls\, viewing\, sorting\, and filtering a list\,  and tack related controls.
URL:https://rairc.com/event/07-12-2021-mlstraining-basic/
CATEGORIES:
END:VEVENT
BEGIN:VEVENT
DTSTART;TZID=America/New_York:20210712T133000
DTEND;TZID=America/New_York:20210712T133000
DTSTAMP:20260420T115803
CREATED:20210524T124552Z
LAST-MODIFIED:20210524T124552Z
UID:5039-1626096600-1626096600@rairc.com
SUMMARY:MLS Training - Stats/Listing Input/ePropertyWatch
DESCRIPTION:Advanced Stats – Set of integrated and automatic statistical reports  andReport/Display Builder. (Staff Feature)\n Listing Input / Edit – Simple listing input\, adding\, and modifying  listings\,statistical reports\, using tax integration\, and using image  submitter (Adminaccess)\n ePropertyWatch – A program that keeps you in touch with your clients.  Homevaluation forecast\, mortgage information\, nearby trends and  forecastanalytics. (Training link in Matrix ?News and Alerts?)
URL:https://rairc.com/event/07-12-2021-mlstraining-stats-listinginput-epropertywatch/
CATEGORIES:
END:VEVENT
BEGIN:VEVENT
DTSTART;TZID=America/New_York:20210712T133000
DTEND;TZID=America/New_York:20210712T133000
DTSTAMP:20260420T115803
CREATED:20201119T212310Z
LAST-MODIFIED:20210413T193346Z
UID:4876-1626096600-1626096600@rairc.com
SUMMARY:MLS Training - Stats/Listing Input/ePropertyWatch
DESCRIPTION:Advanced Stats – Set of integrated and automatic statistical reports andReport/Display Builder. (Staff Feature).\nListing Input / Edit – Simple listing input\, adding\, and modifying listings\,statistical reports\, using tax integration\, and using image submitter (Adminaccess).\nePropertyWatch – A program that keeps you in touch with your clients. Homevaluation forecast\, mortgage information\, nearby trends and forecastanalytics. (Training link in Matrix ?News and Alerts?)
URL:https://rairc.com/event/07-12-2021-mlstraining-stats-agtwebpg/
LOCATION:3250 67th Street\, Vero Beach\, FL\, 32967\, United States
CATEGORIES:
GEO:27.6648274;-81.5157535
X-APPLE-STRUCTURED-LOCATION;VALUE=URI;X-ADDRESS=3250 67th Street Vero Beach FL 32967 United States;X-APPLE-RADIUS=500;X-TITLE=3250 67th Street:geo:-81.5157535,27.6648274
END:VEVENT
BEGIN:VEVENT
DTSTART;TZID=America/New_York:20210720T130000
DTEND;TZID=America/New_York:20210720T130000
DTSTAMP:20260420T115803
CREATED:20201119T212310Z
LAST-MODIFIED:20201119T212310Z
UID:4893-1626786000-1626786000@rairc.com
SUMMARY:REALTORSÂ® Technology Toolbox
DESCRIPTION:Are you thinking about buying technology devices\, software or apps to improve  your real estate business but don’t know where to start?\n By attending this course you will get advice from an expert on how to pick  the right Mobile Devices\, Apps & Internet Service Provider\,  Office/Contact/Lead Management Software\, Digital Cameras\, Office Phone  Solutions\, Anti-Virus and much more that will allow you to run your business  in the most cost & time efficient manner.\n Direct Learning Objectives\n Understand the different options for mobile devices so that you can determine  the right one for your personal needs.\n Identify the right apps\, software and tools that can help address your needs  &/or enhance your customer service\n Identify the right tools that will allow you to run your business in the most  cost & time efficient manner.\n Outline\n Understand today’s consumer & how they use technology\n How Buy the Right Computer\, Smart Phone & Internet Service Provider (ISP)\n Managing the lead notification\, follow up & on-going communication  processOnline marketing crash course\n Contact Management\, E-Mail Marketing & CRM Systems\n How better use imagery & video\n Get rid of the phone company & fax machine ? VOIP Phone & E-Faxing Systems\n Leveraging Cloud & Software as Service Solutions\n Picking the Right Anti-Virus\n Online Risk Management & Computer Safety\n And much more \n 4 hours CE credit
URL:https://rairc.com/event/07-20-2021-realtorsÂ®technologytoolbox/
CATEGORIES:
END:VEVENT
BEGIN:VEVENT
DTSTART;TZID=America/New_York:20210722T100000
DTEND;TZID=America/New_York:20210722T100000
DTSTAMP:20260420T115803
CREATED:20210524T124552Z
LAST-MODIFIED:20210524T124552Z
UID:5034-1626948000-1626948000@rairc.com
SUMMARY:Foundations of Form Simplicity
DESCRIPTION:Form Simplicity is a paperless real estate forms management program designed  to help you manage your transactions. Form Simplicity gives you the tools  necessary to have your office ?in the cloud.? The Form Simplicity products  are available on all mobile devices\, are accessible anytime\, anywhere.\n Objectives: After taking this class students will be able to:\n ? Identify the computer equipment necessary to run the Form Simplicity  program\n ? Learn time saving configurations within the Form Simplicity program\n ? Keep your personal profile updated\n ? Set up email notification\n ? Create an email signature\n ? Import contacts  \n 2 hours CE credit.
URL:https://rairc.com/event/07-22-2021-foundationsofformsimplicity/
CATEGORIES:
END:VEVENT
BEGIN:VEVENT
DTSTART;TZID=America/New_York:20210722T100000
DTEND;TZID=America/New_York:20210722T120000
DTSTAMP:20260420T115803
CREATED:20210331T134121Z
LAST-MODIFIED:20210331T134310Z
UID:4998-1626948000-1626955200@rairc.com
SUMMARY:Foundations of Form Simplicity
DESCRIPTION:Form Simplicity is a paperless real estate forms management program designed to help you manage your transactions. Form Simplicity gives you the tools necessary to have your office ?in the cloud.? The Form Simplicity products are available on all mobile devices\, are accessible anytime\, anywhere.\nObjectives: After taking this class students will be able to:\n? Identify the computer equipment necessary to run the Form Simplicity program\n? Learn time saving configurations within the Form Simplicity program\n? Keep your personal profile updated\n? Set up email notification\n? Create an email signature\n? Import contacts \n2 hours CE credit.
URL:https://rairc.com/event/foundations-of-form-simplicity/
LOCATION:REALTORS Association of Indian River County\, 3250 67th Street\, Vero Beach\, FL\, 33037\, United States
CATEGORIES:Continuing Education
ORGANIZER;CN="REALTORS Association of Indian River County":MAILTO:education@rairc.com
GEO:27.715576;-80.4192745
X-APPLE-STRUCTURED-LOCATION;VALUE=URI;X-ADDRESS=REALTORS Association of Indian River County 3250 67th Street Vero Beach FL 33037 United States;X-APPLE-RADIUS=500;X-TITLE=3250 67th Street:geo:-80.4192745,27.715576
END:VEVENT
BEGIN:VEVENT
DTSTART;TZID=America/New_York:20210722T130000
DTEND;TZID=America/New_York:20210722T150000
DTSTAMP:20260420T115803
CREATED:20210331T134242Z
LAST-MODIFIED:20210331T134242Z
UID:5000-1626958800-1626966000@rairc.com
SUMMARY:Optimizing Your Workflow with Form Simplicity
DESCRIPTION:You’ve heard the saying\, “from soup to nuts\,” well\, this course is the real estate equivalent of that saying. From the moment\, you go on a listing appointment to the writing of a sales contract for a customer\, the entire transaction can be handled with Form Simplicity . .Objectives: Sign in to the blank forms library\, create a transaction\, use auto fill tools for any static fields\, import data\, insert forms\, share data with customers and use the digital signature feature to seal the deal. 2 hours CE credit.
URL:https://rairc.com/event/optimizing-your-workflow-with-form-simplicity/
LOCATION:REALTORS Association of Indian River County\, 3250 67th Street\, Vero Beach\, FL\, 33037\, United States
CATEGORIES:Continuing Education
ORGANIZER;CN="REALTORS Association of Indian River County":MAILTO:education@rairc.com
GEO:27.715576;-80.4192745
X-APPLE-STRUCTURED-LOCATION;VALUE=URI;X-ADDRESS=REALTORS Association of Indian River County 3250 67th Street Vero Beach FL 33037 United States;X-APPLE-RADIUS=500;X-TITLE=3250 67th Street:geo:-80.4192745,27.715576
END:VEVENT
END:VCALENDAR