BEGIN:VCALENDAR
VERSION:2.0
PRODID:-//RAIRC - ECPv6.15.15//NONSGML v1.0//EN
CALSCALE:GREGORIAN
METHOD:PUBLISH
X-ORIGINAL-URL:https://rairc.com
X-WR-CALDESC:Events for RAIRC
REFRESH-INTERVAL;VALUE=DURATION:PT1H
X-Robots-Tag:noindex
X-PUBLISHED-TTL:PT1H
BEGIN:VTIMEZONE
TZID:America/New_York
BEGIN:DAYLIGHT
TZOFFSETFROM:-0500
TZOFFSETTO:-0400
TZNAME:EDT
DTSTART:20180311T070000
END:DAYLIGHT
BEGIN:STANDARD
TZOFFSETFROM:-0400
TZOFFSETTO:-0500
TZNAME:EST
DTSTART:20181104T060000
END:STANDARD
BEGIN:DAYLIGHT
TZOFFSETFROM:-0500
TZOFFSETTO:-0400
TZNAME:EDT
DTSTART:20190310T070000
END:DAYLIGHT
BEGIN:STANDARD
TZOFFSETFROM:-0400
TZOFFSETTO:-0500
TZNAME:EST
DTSTART:20191103T060000
END:STANDARD
BEGIN:DAYLIGHT
TZOFFSETFROM:-0500
TZOFFSETTO:-0400
TZNAME:EDT
DTSTART:20200308T070000
END:DAYLIGHT
BEGIN:STANDARD
TZOFFSETFROM:-0400
TZOFFSETTO:-0500
TZNAME:EST
DTSTART:20201101T060000
END:STANDARD
END:VTIMEZONE
BEGIN:VEVENT
DTSTART;TZID=America/New_York:20191209T163000
DTEND;TZID=America/New_York:20191209T163000
DTSTAMP:20260424T002140
CREATED:20190107T200342Z
LAST-MODIFIED:20190107T200342Z
UID:4246-1575909000-1575909000@rairc.com
SUMMARY:Holiday Open House Dec 2019
DESCRIPTION:RAIRC is hosting the Annual Holiday Party. Hors d’oeuvres\, beer & wine will  be served. A kids table will be set up as well for gifted toys..Please plan  to bring a NEW unwrapped toy for a boy or girl\, 5- 18 yrs of age. Toys may  also be dropped off at the Association through December 9th\, during normal  business hours. Gifts will be given to children in the Toys for Tots  program. The Holiday Party is an appreciation party for Membership. This  year\, the party is open to membership\, their family and or guest. \n Reservation Deadline: Friday\, December 6th (this is to ensure enough  food/beverage for all in attendance).\n Registration Fee: (Non-Members must be paid in advance\, by registration  deadline).\n *Members: FREE (No registration after 12/06/19). \n *Non-Members:\n Family / Guest- 16 yrs & younger\, $5 each;\n Family / Guest- 17 yrs & older\, $18 each
URL:https://rairc.com/event/12-09-2019-holidayopenhousedec2019/
CATEGORIES:
END:VEVENT
BEGIN:VEVENT
DTSTART;TZID=America/New_York:20191212T130000
DTEND;TZID=America/New_York:20191212T130000
DTSTAMP:20260424T002140
CREATED:20191113T204107Z
LAST-MODIFIED:20191113T204107Z
UID:4528-1576155600-1576155600@rairc.com
SUMMARY:The Ins and Outs of Successful Contracts
DESCRIPTION:Contracts can be exciting! Learn the real ins and outs from one of the top  Brokers in Florida. Complete a contract right at outset\, and assure yourself  of profitable closings for all concerned. Armslength\, short sale REO\, your  Instructor does them successfully every day. You will as well! 3 hours CE  credit.
URL:https://rairc.com/event/12-12-2019-theinsandoutsofsuccessfulcontracts/
CATEGORIES:
END:VEVENT
BEGIN:VEVENT
DTSTART;TZID=America/New_York:20191216T100000
DTEND;TZID=America/New_York:20191216T100000
DTSTAMP:20260424T002140
CREATED:20190107T200343Z
LAST-MODIFIED:20190107T200343Z
UID:4271-1576490400-1576490400@rairc.com
SUMMARY:MLS Training - Stats/Agt Webpg
DESCRIPTION:Advanced Stats – Set of integrated and automatic statistical reports and  Report/Display Builder. (Staff Feature)\n Agent Web Page – Web presence by adding listings\, text\, images/videos\, to  their own personally branded Web Page.
URL:https://rairc.com/event/12-16-2019-mlstraining-stats-agtwebpg/
CATEGORIES:
END:VEVENT
BEGIN:VEVENT
DTSTART;TZID=America/New_York:20191216T133000
DTEND;TZID=America/New_York:20191216T133000
DTSTAMP:20260424T002140
CREATED:20191113T204108Z
LAST-MODIFIED:20191113T204108Z
UID:4555-1576503000-1576503000@rairc.com
SUMMARY:MLS Training - Listing Input
DESCRIPTION:Listing Input / Edit – Simple listing input\, adding\, and modifying listings\,  statistical reports\, using tax integration\, and using image submitter (Admin  access)
URL:https://rairc.com/event/12-16-2019-mlstraining-listinginput/
CATEGORIES:
END:VEVENT
END:VCALENDAR