BEGIN:VCALENDAR
VERSION:2.0
PRODID:-//RAIRC - ECPv6.15.15//NONSGML v1.0//EN
CALSCALE:GREGORIAN
METHOD:PUBLISH
X-ORIGINAL-URL:https://rairc.com
X-WR-CALDESC:Events for RAIRC
REFRESH-INTERVAL;VALUE=DURATION:PT1H
X-Robots-Tag:noindex
X-PUBLISHED-TTL:PT1H
BEGIN:VTIMEZONE
TZID:America/New_York
BEGIN:DAYLIGHT
TZOFFSETFROM:-0500
TZOFFSETTO:-0400
TZNAME:EDT
DTSTART:20180311T070000
END:DAYLIGHT
BEGIN:STANDARD
TZOFFSETFROM:-0400
TZOFFSETTO:-0500
TZNAME:EST
DTSTART:20181104T060000
END:STANDARD
BEGIN:DAYLIGHT
TZOFFSETFROM:-0500
TZOFFSETTO:-0400
TZNAME:EDT
DTSTART:20190310T070000
END:DAYLIGHT
BEGIN:STANDARD
TZOFFSETFROM:-0400
TZOFFSETTO:-0500
TZNAME:EST
DTSTART:20191103T060000
END:STANDARD
BEGIN:DAYLIGHT
TZOFFSETFROM:-0500
TZOFFSETTO:-0400
TZNAME:EDT
DTSTART:20200308T070000
END:DAYLIGHT
BEGIN:STANDARD
TZOFFSETFROM:-0400
TZOFFSETTO:-0500
TZNAME:EST
DTSTART:20201101T060000
END:STANDARD
END:VTIMEZONE
BEGIN:VEVENT
DTSTART;TZID=America/New_York:20190708T100000
DTEND;TZID=America/New_York:20190708T100000
DTSTAMP:20260423T035056
CREATED:20190107T200343Z
LAST-MODIFIED:20190107T200343Z
UID:4261-1562580000-1562580000@rairc.com
SUMMARY:MLS Training - Basic
DESCRIPTION:Basic MLS Training includes using MLS Resource links\, adding search fields\,  hotsheets\, field related controls\, viewing\, sorting\, and filtering a list\,  and tack related controls.
URL:https://rairc.com/event/07-08-2019-mlstraining-basic/
CATEGORIES:
END:VEVENT
BEGIN:VEVENT
DTSTART;TZID=America/New_York:20190708T133000
DTEND;TZID=America/New_York:20190708T133000
DTSTAMP:20260423T035056
CREATED:20190107T200343Z
LAST-MODIFIED:20190107T200343Z
UID:4262-1562592600-1562592600@rairc.com
SUMMARY:MLS Training - Stats/Agt Webpg
DESCRIPTION:Advanced Stats – Set of integrated and automatic statistical reports and  Report/Display Builder. (Staff Feature).Agent Web Page – Web presence by  adding listings\, text\, images/videos\, to their own personally branded Web  Page……
URL:https://rairc.com/event/07-08-2019-mlstraining-stats-agtwebpg/
CATEGORIES:
END:VEVENT
BEGIN:VEVENT
DTSTART;TZID=America/New_York:20190711T130000
DTEND;TZID=America/New_York:20190711T130000
DTSTAMP:20260423T035056
CREATED:20190107T200343Z
LAST-MODIFIED:20190107T200343Z
UID:4276-1562850000-1562850000@rairc.com
SUMMARY:REALTORS Technology Toolbox
DESCRIPTION:Are you thinking about buying technology devices\, software or apps to improve  your real estate business but donâ€™t know where to start?\n By attending this course you will get advice from an expert on how to pick  the right Mobile Devices\, Apps & Internet Service Provider\,  Office/Contact/Lead Management Software\, Digital Cameras\, Office Phone  Solutions\, Anti-Virus and much more that will allow you to run your business  in the most cost & time efficient manner.\n Direct Learning Objectives\n Understand the different options for mobile devices so that you can determine  the right one for your personal needs.\n Identify the right apps\, software and tools that can help address your needs  &/or enhance your customer service\n Identify the right tools that will allow you to run your business in the most  cost & time efficient manner.\n Outline\n Understand todayâ€™s consumer & how they use technology\n How Buy the Right Computer\, Smart Phone & Internet Service Provider (ISP)\n Managing the lead notification\, follow up & on-going communication  processOnline marketing crash course\n Contact Management\, E-Mail Marketing & CRM Systems\n How better use imagery & video\n Get rid of the phone company & fax machine â€“ VOIP Phone & E-Faxing Systems\n Leveraging Cloud & Software as Service Solutions\n Picking the Right Anti-Virus\n Online Risk Management & Computer Safety\n And much more
URL:https://rairc.com/event/07-11-2019-realtorstechnologytoolbox/
CATEGORIES:
END:VEVENT
BEGIN:VEVENT
DTSTART;TZID=America/New_York:20190718T170000
DTEND;TZID=America/New_York:20190718T170000
DTSTAMP:20260423T035056
CREATED:20190107T200342Z
LAST-MODIFIED:20190107T200342Z
UID:4240-1563469200-1563469200@rairc.com
SUMMARY:General Membership Meeting / Annual Auction
DESCRIPTION:This is an evening event from 5:00 – 7:00 PM.\n Beer\, Wine & Hors D’oeuvres will be served. \n Program: The Annual Habitat Auction & Announce the 2020 Officers and Directors \n **The Auction will consist of a live auction\, silent bid tables and more!  Bring your checkbooks & credit cards!
URL:https://rairc.com/event/07-18-2019-generalmembershipmeeting-annualauction/
CATEGORIES:
END:VEVENT
BEGIN:VEVENT
DTSTART;TZID=America/New_York:20190725T130000
DTEND;TZID=America/New_York:20190725T130000
DTSTAMP:20260423T035056
CREATED:20190107T200343Z
LAST-MODIFIED:20190107T200343Z
UID:4274-1564059600-1564059600@rairc.com
SUMMARY:Beyond the Velvet Rope\, Working with the World's Affluent
DESCRIPTION:Whether you are currently working with affluent clientele or seeking to break  into this niche\, this course was designed with you in mind. Learn proven  strategies to identify\, connect with\, and exceed the expectations of some of  the world?s most demanding\, knowledgeable\, and intimidating clients. Covered  topics include buyer/ listing presentation best practices\, how to build an  all-star team that dazzles\, and how to turn your clients into your greatest  brand ambassadors. Walk away with action steps to implement within hours of  learning and move yourself and your real estate career Beyond the Velvet  Rope.
URL:https://rairc.com/event/07-25-2019-beyondthevelvetrope-workingwiththeworldsaffluent/
CATEGORIES:
END:VEVENT
END:VCALENDAR