BEGIN:VCALENDAR
VERSION:2.0
PRODID:-//RAIRC - ECPv6.15.15//NONSGML v1.0//EN
CALSCALE:GREGORIAN
METHOD:PUBLISH
X-ORIGINAL-URL:https://rairc.com
X-WR-CALDESC:Events for RAIRC
REFRESH-INTERVAL;VALUE=DURATION:PT1H
X-Robots-Tag:noindex
X-PUBLISHED-TTL:PT1H
BEGIN:VTIMEZONE
TZID:America/New_York
BEGIN:DAYLIGHT
TZOFFSETFROM:-0500
TZOFFSETTO:-0400
TZNAME:EDT
DTSTART:20170312T070000
END:DAYLIGHT
BEGIN:STANDARD
TZOFFSETFROM:-0400
TZOFFSETTO:-0500
TZNAME:EST
DTSTART:20171105T060000
END:STANDARD
BEGIN:DAYLIGHT
TZOFFSETFROM:-0500
TZOFFSETTO:-0400
TZNAME:EDT
DTSTART:20180311T070000
END:DAYLIGHT
BEGIN:STANDARD
TZOFFSETFROM:-0400
TZOFFSETTO:-0500
TZNAME:EST
DTSTART:20181104T060000
END:STANDARD
BEGIN:DAYLIGHT
TZOFFSETFROM:-0500
TZOFFSETTO:-0400
TZNAME:EDT
DTSTART:20190310T070000
END:DAYLIGHT
BEGIN:STANDARD
TZOFFSETFROM:-0400
TZOFFSETTO:-0500
TZNAME:EST
DTSTART:20191103T060000
END:STANDARD
END:VTIMEZONE
BEGIN:VTIMEZONE
TZID:UTC
BEGIN:STANDARD
TZOFFSETFROM:+0000
TZOFFSETTO:+0000
TZNAME:UTC
DTSTART:20170101T000000
END:STANDARD
END:VTIMEZONE
BEGIN:VEVENT
DTSTART;TZID=America/New_York:20181203T163000
DTEND;TZID=America/New_York:20181203T163000
DTSTAMP:20260422T102343
CREATED:20181107T211147Z
LAST-MODIFIED:20181107T211147Z
UID:4188-1543854600-1543854600@rairc.com
SUMMARY:Holiday Open House Dec 2018
DESCRIPTION:RAIRC is hosting the Annual Holiday Party. Hors d’oeuvres\, beer & wine will  be served. A kids table will be set up as well for gifted toys..Please plan  to bring a NEW unwrapped toy for a boy or girl\, age 5- 18 yrs of age. Toys  may also be dropped off at the Association through December 3rd\, during  normal business hours. Gifts will be given to children in the Toys for Tots  program. The Holiday Party is an appreciation party for Membership. This  year\, the party is open to membership\, their family and or guest. \n Reservation Deadline: Friday\, November 30th (this is to ensure enough  food/beverage for all in attendance).\n Registration Fee: (Non-Members must be paid in advance\, by registration  deadline).\n *Members: FREE (No registration after 11/30/18). \n *Non-Members:\n Family / Guest- 16 yrs & younger\, $5 each;\n Family / Guest- 17 yrs & older\, $18 each
URL:https://rairc.com/event/12-03-2018-holidayopenhousedec2018/
CATEGORIES:
END:VEVENT
BEGIN:VEVENT
DTSTART;TZID=UTC:20181203T163000
DTEND;TZID=UTC:20181203T183000
DTSTAMP:20260422T102343
CREATED:20181023T233511Z
LAST-MODIFIED:20181023T233511Z
UID:4182-1543854600-1543861800@rairc.com
SUMMARY:Holiday Open House
DESCRIPTION:RAIRC is hosting the Annual Holiday Party. Hors d’oeuvres\, beer & wine will be served. A kids table will be set up as well for gifted toys. Please plan to bring a NEW unwrapped toy for a boy or girl\, age 5- 18 yrs of age. Toys may also be dropped off at the Association through December 3rd\, during normal business hours. Gifts will be given to children in the Toys for Tots program. The Holiday Party is an appreciation party for Membership. This year\, the party is open to membership\, their family and or guest. \nReservation Deadline: Friday\, November 30th (this is to ensure enough food/beverage for all in attendance).\nRegistration Fee: (Non-Members must be paid in advance\, by registration deadline).\n*Members: FREE (No registration after 11/30/18). \n*Non-Members:\nFamily / Guest- 16 yrs & younger\, $5 each;\nFamily / Guest- 17 yrs & older\, $18 each
URL:https://rairc.com/event/holiday-open-house/
LOCATION:REALTORS Association of Indian River County\, 3250 67th Street\, Vero Beach\, FL\, 33037\, United States
ORGANIZER;CN="REALTORS Association of Indian River County":MAILTO:education@rairc.com
GEO:27.715576;-80.4192745
X-APPLE-STRUCTURED-LOCATION;VALUE=URI;X-ADDRESS=REALTORS Association of Indian River County 3250 67th Street Vero Beach FL 33037 United States;X-APPLE-RADIUS=500;X-TITLE=3250 67th Street:geo:-80.4192745,27.715576
END:VEVENT
BEGIN:VEVENT
DTSTART;TZID=America/New_York:20181210T100000
DTEND;TZID=America/New_York:20181210T100000
DTSTAMP:20260422T102343
CREATED:20171130T130001Z
LAST-MODIFIED:20171130T130001Z
UID:3825-1544436000-1544436000@rairc.com
SUMMARY:MLS Training - Stats/Agt Webpg
DESCRIPTION:Advanced Stats – Set of integrated and automatic statistical reports and  Report/Display Builder. (Staff Feature)\n Agent Web Page – Web presence by adding listings\, text\, images/videos\, to  their own personally branded Web Page.
URL:https://rairc.com/event/12-10-2018-mlstraining-stats-agtwebpg/
CATEGORIES:
END:VEVENT
BEGIN:VEVENT
DTSTART;TZID=America/New_York:20181210T133000
DTEND;TZID=America/New_York:20181210T133000
DTSTAMP:20260422T102343
CREATED:20171130T130001Z
LAST-MODIFIED:20171130T130001Z
UID:3826-1544448600-1544448600@rairc.com
SUMMARY:MLS Training - GoMLS
DESCRIPTION:GoMLS App (MLSofIRC) – The Public and Realtors can use the MLS wireless  Mobile App to search for current listing details and photos\, maps using GPS\,  and Realist tax on IOS\, iPad\, and Android mobile devices. (Training under  Help)
URL:https://rairc.com/event/12-10-2018-mlstraining-gomls/
CATEGORIES:
END:VEVENT
BEGIN:VEVENT
DTSTART;TZID=America/New_York:20181213T130000
DTEND;TZID=America/New_York:20181213T130000
DTSTAMP:20260422T102343
CREATED:20181107T211147Z
LAST-MODIFIED:20181107T211147Z
UID:4187-1544706000-1544706000@rairc.com
SUMMARY:Code of Ethics
DESCRIPTION:This class satisfies the 3 hours required in ethics every 2 years with NAR.  Discussion will focus on NAR’s 2018 edition of Code of Ethics and Standards  of Practice as well as defining due process\, the functions of the Grievance  and of the Professional Standards Committee\, mediation\, and arbitration.  This course will also take you through hypothetical situations involving the  code of ethics\, arbitration\, and a full study of procuring cause.  Instructor: Richard Fryer\n Sponsor: TBA
URL:https://rairc.com/event/12-13-2018-codeofethics/
CATEGORIES:
END:VEVENT
BEGIN:VEVENT
DTSTART;TZID=UTC:20181213T130000
DTEND;TZID=UTC:20181213T160000
DTSTAMP:20260422T102343
CREATED:20181023T233215Z
LAST-MODIFIED:20181023T233215Z
UID:4179-1544706000-1544716800@rairc.com
SUMMARY:Code of Ethics
DESCRIPTION:This class satisfies the 3 hours required in ethics every 2 years with NAR. Discussion will focus on NAR’s 2018 edition of Code of Ethics and Standards of Practice as well as defining due process\, the functions of the Grievance and of the Professional Standards Committee\, mediation\, and arbitration. This course will also take you through hypothetical situations involving the code of ethics\, arbitration\, and a full study of procuring cause. Instructor: Richard Fryer
URL:https://rairc.com/event/code-of-ethics-3/
LOCATION:REALTORS Association of Indian River County\, 3250 67th Street\, Vero Beach\, FL\, 33037\, United States
ORGANIZER;CN="REALTORS Association of Indian River County":MAILTO:education@rairc.com
GEO:27.715576;-80.4192745
X-APPLE-STRUCTURED-LOCATION;VALUE=URI;X-ADDRESS=REALTORS Association of Indian River County 3250 67th Street Vero Beach FL 33037 United States;X-APPLE-RADIUS=500;X-TITLE=3250 67th Street:geo:-80.4192745,27.715576
END:VEVENT
END:VCALENDAR