BEGIN:VCALENDAR
VERSION:2.0
PRODID:-//RAIRC - ECPv6.15.15//NONSGML v1.0//EN
CALSCALE:GREGORIAN
METHOD:PUBLISH
X-ORIGINAL-URL:https://rairc.com
X-WR-CALDESC:Events for RAIRC
REFRESH-INTERVAL;VALUE=DURATION:PT1H
X-Robots-Tag:noindex
X-PUBLISHED-TTL:PT1H
BEGIN:VTIMEZONE
TZID:America/New_York
BEGIN:DAYLIGHT
TZOFFSETFROM:-0500
TZOFFSETTO:-0400
TZNAME:EDT
DTSTART:20160313T070000
END:DAYLIGHT
BEGIN:STANDARD
TZOFFSETFROM:-0400
TZOFFSETTO:-0500
TZNAME:EST
DTSTART:20161106T060000
END:STANDARD
BEGIN:DAYLIGHT
TZOFFSETFROM:-0500
TZOFFSETTO:-0400
TZNAME:EDT
DTSTART:20170312T070000
END:DAYLIGHT
BEGIN:STANDARD
TZOFFSETFROM:-0400
TZOFFSETTO:-0500
TZNAME:EST
DTSTART:20171105T060000
END:STANDARD
BEGIN:DAYLIGHT
TZOFFSETFROM:-0500
TZOFFSETTO:-0400
TZNAME:EDT
DTSTART:20180311T070000
END:DAYLIGHT
BEGIN:STANDARD
TZOFFSETFROM:-0400
TZOFFSETTO:-0500
TZNAME:EST
DTSTART:20181104T060000
END:STANDARD
END:VTIMEZONE
BEGIN:VEVENT
DTSTART;TZID=America/New_York:20170501T100000
DTEND;TZID=America/New_York:20170501T100000
DTSTAMP:20260425T100545
CREATED:20161207T180257Z
LAST-MODIFIED:20170112T080303Z
UID:3237-1493632800-1493632800@rairc.com
SUMMARY:MLS Training - Basic
DESCRIPTION:MLS Matrix Training\n Basic
URL:https://rairc.com/event/05-01-2017-mlstraining-basic/
CATEGORIES:,MLS
END:VEVENT
BEGIN:VEVENT
DTSTART;TZID=America/New_York:20170501T133000
DTEND;TZID=America/New_York:20170501T133000
DTSTAMP:20260425T100545
CREATED:20161207T180257Z
LAST-MODIFIED:20170112T080250Z
UID:3238-1493645400-1493645400@rairc.com
SUMMARY:MLS Training - Advanced/CMA
DESCRIPTION:MLS Computer Training for Matrix\n Advanced/CMA
URL:https://rairc.com/event/05-01-2017-mlstraining-advanced-cma/
CATEGORIES:,MLS
END:VEVENT
BEGIN:VEVENT
DTSTART;TZID=America/New_York:20170504T090000
DTEND;TZID=America/New_York:20170504T090000
DTSTAMP:20260425T100545
CREATED:20170113T012924Z
LAST-MODIFIED:20170113T210131Z
UID:3359-1493888400-1493888400@rairc.com
SUMMARY:Unlocking the Secrets of Commercial Investment (3ceu)
DESCRIPTION:What are: ‘pass-thru’s’\, CAM charges\, percentage leases\, anchor tenants\, and IRV? Are the landlord tenant laws different between commercial and residential real estate? Thes and virtually all of your questions will be addressed in this powerpacked 3 hr couse taught by Steve David\, Nationally recognized Real Estate Investor\, Chairman of one of the 200 largest Brokerage firms in the US and a Floridian. In understandable terms\, Steve will take you through the analysis of investment real estate. This includes  determining fair rents\, lease terms\, cost recovery charges\, net operating income\, fair asking prices and what makes a good deal good. You’ll learn how to obtain mortgage financing\, and what lenders look for in commercial property\, including determining Debt Service Coverage ratios\, reserves and replacements. You’ll also learn about the differences in owning\, operating\, and Brokering Multi Family\, warehouses and retail. Finally\, we’ll discuss the strengths and weaknesses of each category of commercial property. Including what you might want to own.
URL:https://rairc.com/event/05-04-2017-unlockingthesecretsofcommercialinvestment3ceu/
CATEGORIES:,Continuing Education
END:VEVENT
BEGIN:VEVENT
DTSTART;TZID=America/New_York:20170504T130000
DTEND;TZID=America/New_York:20170504T130000
DTSTAMP:20260425T100545
CREATED:20170113T013617Z
LAST-MODIFIED:20170113T210126Z
UID:3363-1493902800-1493902800@rairc.com
SUMMARY:Real Estate Investing: The Good\, Bad & Ugly (4ceu)
DESCRIPTION:Real Estate Investing\, until recently\, produced some of the world’s wealthiest people. That still holds true after the recent crash\, but the rules may be revised. The old rules worked fine until they took a back seat during the Pre-Crash insanity. Through this course we will look at real estate investing as a long-term strategy to produce current income and long-term wealth creation. We’ll also look at: how do we calculate accurate incomes and cash flows; what makes a good deal good; and how much cash is necessary to acquire property. Don’t miss it!
URL:https://rairc.com/event/05-04-2017-realestateinvestingthegood-badandugly4ceu/
CATEGORIES:,Continuing Education
END:VEVENT
BEGIN:VEVENT
DTSTART;TZID=America/New_York:20170504T130000
DTEND;TZID=America/New_York:20170504T130000
DTSTAMP:20260425T100545
CREATED:20170121T001228Z
LAST-MODIFIED:20170121T001228Z
UID:3408-1493902800-1493902800@rairc.com
SUMMARY:Real Estate Investing: The Good\, Bad & Ugly (4ceu)
DESCRIPTION:Real Estate Investing\, until recently\, produced some of the world’s wealthiest people. That still holds true after the recent crash\, but the rules may be revised. The old rules worked fine until they took a back seat during the Pre-Crash insanity. Through this course we will look at real estate investing as a long-term strategy to produce current income and long-term wealth creation. We’ll also look at: how do we calculate accurate incomes and cash flows; what makes a good deal good; and how much cash is necessary to acquire property. Don’t miss it!
URL:https://rairc.com/event/05-04-2017-realestateinvesting:thegood-badandugly4ceu/
CATEGORIES:
END:VEVENT
BEGIN:VEVENT
DTSTART;TZID=America/New_York:20170508T100000
DTEND;TZID=America/New_York:20170508T100000
DTSTAMP:20260425T100545
CREATED:20170402T122650Z
LAST-MODIFIED:20170402T122650Z
UID:3449-1494237600-1494237600@rairc.com
SUMMARY:MLS Training - Basic
DESCRIPTION:MLS Matrix Training\n Basic
URL:https://rairc.com/event/05-08-2017-mlstraining-basic/
CATEGORIES:
END:VEVENT
BEGIN:VEVENT
DTSTART;TZID=America/New_York:20170508T133000
DTEND;TZID=America/New_York:20170508T133000
DTSTAMP:20260425T100545
CREATED:20170402T122650Z
LAST-MODIFIED:20170402T122650Z
UID:3450-1494250200-1494250200@rairc.com
SUMMARY:MLS Training - Advanced/CMA
DESCRIPTION:MLS Computer Training for Matrix\n Advanced/CMA
URL:https://rairc.com/event/05-08-2017-mlstraining-advanced-cma/
CATEGORIES:
END:VEVENT
BEGIN:VEVENT
DTSTART;TZID=America/New_York:20170509T130000
DTEND;TZID=America/New_York:20170509T130000
DTSTAMP:20260425T100545
CREATED:20170112T080411Z
LAST-MODIFIED:20170112T080656Z
UID:3291-1494334800-1494334800@rairc.com
SUMMARY:REALTORS Guide to Effective Communication
DESCRIPTION:This course will dicuss why some customers can prove to be more challenging than others to communicate with and understand. You will learn how to communicate differently with each other and how our communication is impacted by which GENERATION we come from. As REALTORS\, you’ll leave with tips and insights to help you market yourself as well as bridge the generation gap between you and your customers. This class will earn 3 ceu’s.\n Instructed By: Cherolyne Fogarty
URL:https://rairc.com/event/05-09-2017-realtorsguidetoeffectivecommunication/
CATEGORIES:,Continuing Education
END:VEVENT
BEGIN:VEVENT
DTSTART;TZID=America/New_York:20170511T121500
DTEND;TZID=America/New_York:20170511T121500
DTSTAMP:20260425T100545
CREATED:20170112T080411Z
LAST-MODIFIED:20170112T080649Z
UID:3289-1494504900-1494504900@rairc.com
SUMMARY:General Membership Meeting
DESCRIPTION:Lunch is provided by N/A and will be served at 12:15PM.\n The meeting is Called to Order at 12:30PM.\n Program/Speaker:\n Sponsor:
URL:https://rairc.com/event/05-11-2017-generalmembershipmeeting/
CATEGORIES:,Event
END:VEVENT
BEGIN:VEVENT
DTSTART;TZID=America/New_York:20170511T170000
DTEND;TZID=America/New_York:20170511T170000
DTSTAMP:20260425T100545
CREATED:20170413T091659Z
LAST-MODIFIED:20170413T091659Z
UID:3460-1494522000-1494522000@rairc.com
SUMMARY:ALIVE AT FIVE- HARBOR COMMUNITY BANK
DESCRIPTION:Come join us for another fun Alive at Five! Hosted by Harbor Community Bank\, 3240 Cardinal Dr\, Vero Beach\, FL 32963
URL:https://rairc.com/event/05-11-2017-aliveatfive-harborcommunitybank/
CATEGORIES:
END:VEVENT
END:VCALENDAR