BEGIN:VCALENDAR
VERSION:2.0
PRODID:-//RAIRC - ECPv6.15.15//NONSGML v1.0//EN
CALSCALE:GREGORIAN
METHOD:PUBLISH
X-ORIGINAL-URL:https://rairc.com
X-WR-CALDESC:Events for RAIRC
REFRESH-INTERVAL;VALUE=DURATION:PT1H
X-Robots-Tag:noindex
X-PUBLISHED-TTL:PT1H
BEGIN:VTIMEZONE
TZID:America/New_York
BEGIN:DAYLIGHT
TZOFFSETFROM:-0500
TZOFFSETTO:-0400
TZNAME:EDT
DTSTART:20190310T070000
END:DAYLIGHT
BEGIN:STANDARD
TZOFFSETFROM:-0400
TZOFFSETTO:-0500
TZNAME:EST
DTSTART:20191103T060000
END:STANDARD
BEGIN:DAYLIGHT
TZOFFSETFROM:-0500
TZOFFSETTO:-0400
TZNAME:EDT
DTSTART:20200308T070000
END:DAYLIGHT
BEGIN:STANDARD
TZOFFSETFROM:-0400
TZOFFSETTO:-0500
TZNAME:EST
DTSTART:20201101T060000
END:STANDARD
BEGIN:DAYLIGHT
TZOFFSETFROM:-0500
TZOFFSETTO:-0400
TZNAME:EDT
DTSTART:20210314T070000
END:DAYLIGHT
BEGIN:STANDARD
TZOFFSETFROM:-0400
TZOFFSETTO:-0500
TZNAME:EST
DTSTART:20211107T060000
END:STANDARD
END:VTIMEZONE
BEGIN:VEVENT
DTSTART;TZID=America/New_York:20200910T090000
DTEND;TZID=America/New_York:20200910T090000
DTSTAMP:20260423T055706
CREATED:20200803T220242Z
LAST-MODIFIED:20200803T220242Z
UID:4713-1599728400-1599728400@rairc.com
SUMMARY:Virtual Course - Risk Management
DESCRIPTION:This is a virtual Zoom course! You will receive the link to register prior to  the course via Zoom after you register. \n Like all other business transactions\, real estate has the potential to be  risky business. All RealtorsÂ® want to manage risk as adequately as possible\,  and this course will speak to and help agents avoid the most common risks  associated with the ownership of a Brokerage firm and the practice of real  estate sale.   \n It will explore the risks associated with short sales\, the importance of  having a Policy Manual at a Brokerage Firm\, and proactively training staff  in accordance with law and best practices. Available in both a three and a  four hour format\, RealtorsÂ® attending this class will be better able to  understand risks as they pertain to an individual?s day to day activities\,  and how to best prepare to handle them before they get out of control.  \n Objectives: In addition to the skills listed above\, students at the  completion of this course will be able to do the following: List the content  of a good policy manual\, identify those issues of greatest liability\, create  a table of contents for a policy manual\, segregate areas of risk between a  salesperson and a Brokerage firm given a specific scenario\, instruct other  workgroup participants on the appropriate steps to meet FS 475 requirements\,  define the Agency options available to Florida licensees\, list the steps  required and timeline requirements to file an escrow disbursement request  with the Division of Real Estate\, segregate between illegal kickbacks and  legal rebates\, and define the acronyms HUD\, RESPA\, ADA\, FTC and FS 475.  \n 3 hours CE credit
URL:https://rairc.com/event/09-10-2020-virtualcourse-riskmanagement/
CATEGORIES:
END:VEVENT
END:VCALENDAR