BEGIN:VCALENDAR
VERSION:2.0
PRODID:-//RAIRC - ECPv6.15.15//NONSGML v1.0//EN
CALSCALE:GREGORIAN
METHOD:PUBLISH
X-WR-CALNAME:RAIRC
X-ORIGINAL-URL:https://rairc.com
X-WR-CALDESC:Events for RAIRC
REFRESH-INTERVAL;VALUE=DURATION:PT1H
X-Robots-Tag:noindex
X-PUBLISHED-TTL:PT1H
BEGIN:VTIMEZONE
TZID:America/New_York
BEGIN:DAYLIGHT
TZOFFSETFROM:-0500
TZOFFSETTO:-0400
TZNAME:EDT
DTSTART:20190310T070000
END:DAYLIGHT
BEGIN:STANDARD
TZOFFSETFROM:-0400
TZOFFSETTO:-0500
TZNAME:EST
DTSTART:20191103T060000
END:STANDARD
BEGIN:DAYLIGHT
TZOFFSETFROM:-0500
TZOFFSETTO:-0400
TZNAME:EDT
DTSTART:20200308T070000
END:DAYLIGHT
BEGIN:STANDARD
TZOFFSETFROM:-0400
TZOFFSETTO:-0500
TZNAME:EST
DTSTART:20201101T060000
END:STANDARD
BEGIN:DAYLIGHT
TZOFFSETFROM:-0500
TZOFFSETTO:-0400
TZNAME:EDT
DTSTART:20210314T070000
END:DAYLIGHT
BEGIN:STANDARD
TZOFFSETFROM:-0400
TZOFFSETTO:-0500
TZNAME:EST
DTSTART:20211107T060000
END:STANDARD
END:VTIMEZONE
BEGIN:VEVENT
DTSTART;TZID=America/New_York:20200714T130000
DTEND;TZID=America/New_York:20200714T130000
DTSTAMP:20260423T095203
CREATED:20191113T204109Z
LAST-MODIFIED:20191113T204109Z
UID:4564-1594731600-1594731600@rairc.com
SUMMARY:REALTORSÂ® Technology Toolbox
DESCRIPTION:Are you thinking about buying technology devices\, software or apps to improve  your real estate business but don’t know where to start?\n By attending this course you will get advice from an expert on how to pick  the right Mobile Devices\, Apps & Internet Service Provider\,  Office/Contact/Lead Management Software\, Digital Cameras\, Office Phone  Solutions\, Anti-Virus and much more that will allow you to run your business  in the most cost & time efficient manner.\n Direct Learning Objectives\n Understand the different options for mobile devices so that you can determine  the right one for your personal needs.\n Identify the right apps\, software and tools that can help address your needs  &/or enhance your customer service\n Identify the right tools that will allow you to run your business in the most  cost & time efficient manner.\n Outline\n Understand today’s consumer & how they use technology\n How Buy the Right Computer\, Smart Phone & Internet Service Provider (ISP)\n Managing the lead notification\, follow up & on-going communication  processOnline marketing crash course\n Contact Management\, E-Mail Marketing & CRM Systems\n How better use imagery & video\n Get rid of the phone company & fax machine ? VOIP Phone & E-Faxing Systems\n Leveraging Cloud & Software as Service Solutions\n Picking the Right Anti-Virus\n Online Risk Management & Computer Safety\n And much more \n 4 hours CE credit
URL:https://rairc.com/event/07-14-2020-realtorsÂ®technologytoolbox/
CATEGORIES:
END:VEVENT
END:VCALENDAR