BEGIN:VCALENDAR
VERSION:2.0
PRODID:-//RAIRC - ECPv6.15.15//NONSGML v1.0//EN
CALSCALE:GREGORIAN
METHOD:PUBLISH
X-WR-CALNAME:RAIRC
X-ORIGINAL-URL:https://rairc.com
X-WR-CALDESC:Events for RAIRC
REFRESH-INTERVAL;VALUE=DURATION:PT1H
X-Robots-Tag:noindex
X-PUBLISHED-TTL:PT1H
BEGIN:VTIMEZONE
TZID:America/New_York
BEGIN:DAYLIGHT
TZOFFSETFROM:-0500
TZOFFSETTO:-0400
TZNAME:EDT
DTSTART:20190310T070000
END:DAYLIGHT
BEGIN:STANDARD
TZOFFSETFROM:-0400
TZOFFSETTO:-0500
TZNAME:EST
DTSTART:20191103T060000
END:STANDARD
BEGIN:DAYLIGHT
TZOFFSETFROM:-0500
TZOFFSETTO:-0400
TZNAME:EDT
DTSTART:20200308T070000
END:DAYLIGHT
BEGIN:STANDARD
TZOFFSETFROM:-0400
TZOFFSETTO:-0500
TZNAME:EST
DTSTART:20201101T060000
END:STANDARD
BEGIN:DAYLIGHT
TZOFFSETFROM:-0500
TZOFFSETTO:-0400
TZNAME:EDT
DTSTART:20210314T070000
END:DAYLIGHT
BEGIN:STANDARD
TZOFFSETFROM:-0400
TZOFFSETTO:-0500
TZNAME:EST
DTSTART:20211107T060000
END:STANDARD
END:VTIMEZONE
BEGIN:VEVENT
DTSTART;TZID=America/New_York:20200310T100000
DTEND;TZID=America/New_York:20200310T100000
DTSTAMP:20260422T085743
CREATED:20191113T204106Z
LAST-MODIFIED:20191113T204106Z
UID:4514-1583834400-1583834400@rairc.com
SUMMARY:Foundations of Form Simplicity
DESCRIPTION:What do we never have enough of?  Time! This basic\, introductory course\, will  help you save time and become more efficient.   \n Objectives: Find out what computer equipment as well as software requirements  you need for the Form Simplicity program.  Learn the time saving  configurations of the various components within the Form Simplicity program.   Keep your profile current\, set up email notifications\, create an email  signature and import contacts from various sources such as Outlook\, Gmail\,  and Electronic Business Cards.  \n 2 hours CE credit.
URL:https://rairc.com/event/03-10-2020-foundationsofformsimplicity/
CATEGORIES:
END:VEVENT
BEGIN:VEVENT
DTSTART;TZID=America/New_York:20200310T130000
DTEND;TZID=America/New_York:20200310T130000
DTSTAMP:20260422T085743
CREATED:20191113T204106Z
LAST-MODIFIED:20191113T204106Z
UID:4515-1583845200-1583845200@rairc.com
SUMMARY:Optimizing Your Workflow with Form Simplicity
DESCRIPTION:You?ve heard the saying\, ?from soup to nuts\,? well\, this course is the real  estate equivalent of that saying.  \n From the moment\, you go on a listing appointment to the writing of a sales  contract for a customer\, the entire transaction can be handled with Form  Simplicity  \n Objectives: Sign in to the blank forms library\, create a transaction\, use  auto fill tools for any static fields\, import data\, insert forms\, share data  with customers and use the digital signature feature to seal the deal.  \n 2 hours CE credit.
URL:https://rairc.com/event/03-10-2020-optimizingyourworkflowwithformsimplicity/
CATEGORIES:
END:VEVENT
END:VCALENDAR