BEGIN:VCALENDAR
VERSION:2.0
PRODID:-//RAIRC - ECPv6.15.15//NONSGML v1.0//EN
CALSCALE:GREGORIAN
METHOD:PUBLISH
X-ORIGINAL-URL:https://rairc.com
X-WR-CALDESC:Events for RAIRC
REFRESH-INTERVAL;VALUE=DURATION:PT1H
X-Robots-Tag:noindex
X-PUBLISHED-TTL:PT1H
BEGIN:VTIMEZONE
TZID:America/New_York
BEGIN:DAYLIGHT
TZOFFSETFROM:-0500
TZOFFSETTO:-0400
TZNAME:EDT
DTSTART:20180311T070000
END:DAYLIGHT
BEGIN:STANDARD
TZOFFSETFROM:-0400
TZOFFSETTO:-0500
TZNAME:EST
DTSTART:20181104T060000
END:STANDARD
BEGIN:DAYLIGHT
TZOFFSETFROM:-0500
TZOFFSETTO:-0400
TZNAME:EDT
DTSTART:20190310T070000
END:DAYLIGHT
BEGIN:STANDARD
TZOFFSETFROM:-0400
TZOFFSETTO:-0500
TZNAME:EST
DTSTART:20191103T060000
END:STANDARD
BEGIN:DAYLIGHT
TZOFFSETFROM:-0500
TZOFFSETTO:-0400
TZNAME:EDT
DTSTART:20200308T070000
END:DAYLIGHT
BEGIN:STANDARD
TZOFFSETFROM:-0400
TZOFFSETTO:-0500
TZNAME:EST
DTSTART:20201101T060000
END:STANDARD
END:VTIMEZONE
BEGIN:VEVENT
DTSTART;TZID=America/New_York:20191003T170000
DTEND;TZID=America/New_York:20191003T170000
DTSTAMP:20260425T204218
CREATED:20190925T182405Z
LAST-MODIFIED:20190925T182405Z
UID:4420-1570122000-1570122000@rairc.com
SUMMARY:ALIVE AT FIVE - Paramount Residential Mortgage Group
DESCRIPTION:Come join Paramount Residential Mortgage Group at Strike Zone! Located at 730  S Fleming St\, Sebastian\, FL 32958. There you’ll find appetizers\, drinks\,  prizes\, pool tables\, dart boards\, a golf simulator & FUN!
URL:https://rairc.com/event/10-03-2019-aliveatfive-paramountresidentialmortgagegroup/
CATEGORIES:
END:VEVENT
END:VCALENDAR