BEGIN:VCALENDAR
VERSION:2.0
PRODID:-//RAIRC - ECPv6.15.15//NONSGML v1.0//EN
CALSCALE:GREGORIAN
METHOD:PUBLISH
X-WR-CALNAME:RAIRC
X-ORIGINAL-URL:https://rairc.com
X-WR-CALDESC:Events for RAIRC
REFRESH-INTERVAL;VALUE=DURATION:PT1H
X-Robots-Tag:noindex
X-PUBLISHED-TTL:PT1H
BEGIN:VTIMEZONE
TZID:America/New_York
BEGIN:DAYLIGHT
TZOFFSETFROM:-0500
TZOFFSETTO:-0400
TZNAME:EDT
DTSTART:20180311T070000
END:DAYLIGHT
BEGIN:STANDARD
TZOFFSETFROM:-0400
TZOFFSETTO:-0500
TZNAME:EST
DTSTART:20181104T060000
END:STANDARD
BEGIN:DAYLIGHT
TZOFFSETFROM:-0500
TZOFFSETTO:-0400
TZNAME:EDT
DTSTART:20190310T070000
END:DAYLIGHT
BEGIN:STANDARD
TZOFFSETFROM:-0400
TZOFFSETTO:-0500
TZNAME:EST
DTSTART:20191103T060000
END:STANDARD
BEGIN:DAYLIGHT
TZOFFSETFROM:-0500
TZOFFSETTO:-0400
TZNAME:EDT
DTSTART:20200308T070000
END:DAYLIGHT
BEGIN:STANDARD
TZOFFSETFROM:-0400
TZOFFSETTO:-0500
TZNAME:EST
DTSTART:20201101T060000
END:STANDARD
END:VTIMEZONE
BEGIN:VEVENT
DTSTART;TZID=America/New_York:20190920T130000
DTEND;TZID=America/New_York:20190920T130000
DTSTAMP:20260424T234405
CREATED:20190809T045003Z
LAST-MODIFIED:20190809T045003Z
UID:4409-1568984400-1568984400@rairc.com
SUMMARY:2019 Annual Installation & Awards Banquet
DESCRIPTION:RAIRC presents the Annual Installation & Awards Banquet on September 20th at  the Moorings Yacht & Country club (100 Harbour Dr\, Vero Beach\, FL 32963).  Suggested Time of arrival is 12:00 PM\, program will start at 1:00 PM & end  at 3:00 PM. Program consists of Installation of the 2020 Board of Directors\,  2019 REALTOR\, Rookie & Affiliate of the Year Awards and 2019 Leadership  recognition. Business attire is REQUIRED. **The Moorings Club has a No Denim  policy! All seating will be assigned in order of the reservations received.  Table reservations will be available for groups of 8. Group reservations  must deliver all payments together with a complete list of names to  register. Cash Bar available
URL:https://rairc.com/event/09-20-2019-2019annualinstallationandawardsbanquet/
CATEGORIES:
END:VEVENT
END:VCALENDAR