BEGIN:VCALENDAR
VERSION:2.0
PRODID:-//RAIRC - ECPv6.15.15//NONSGML v1.0//EN
CALSCALE:GREGORIAN
METHOD:PUBLISH
X-ORIGINAL-URL:https://rairc.com
X-WR-CALDESC:Events for RAIRC
REFRESH-INTERVAL;VALUE=DURATION:PT1H
X-Robots-Tag:noindex
X-PUBLISHED-TTL:PT1H
BEGIN:VTIMEZONE
TZID:America/New_York
BEGIN:DAYLIGHT
TZOFFSETFROM:-0500
TZOFFSETTO:-0400
TZNAME:EDT
DTSTART:20160313T070000
END:DAYLIGHT
BEGIN:STANDARD
TZOFFSETFROM:-0400
TZOFFSETTO:-0500
TZNAME:EST
DTSTART:20161106T060000
END:STANDARD
BEGIN:DAYLIGHT
TZOFFSETFROM:-0500
TZOFFSETTO:-0400
TZNAME:EDT
DTSTART:20170312T070000
END:DAYLIGHT
BEGIN:STANDARD
TZOFFSETFROM:-0400
TZOFFSETTO:-0500
TZNAME:EST
DTSTART:20171105T060000
END:STANDARD
BEGIN:DAYLIGHT
TZOFFSETFROM:-0500
TZOFFSETTO:-0400
TZNAME:EDT
DTSTART:20180311T070000
END:DAYLIGHT
BEGIN:STANDARD
TZOFFSETFROM:-0400
TZOFFSETTO:-0500
TZNAME:EST
DTSTART:20181104T060000
END:STANDARD
END:VTIMEZONE
BEGIN:VEVENT
DTSTART;TZID=America/New_York:20170323T130000
DTEND;TZID=America/New_York:20170323T130000
DTSTAMP:20260422T224643
CREATED:20170112T080411Z
LAST-MODIFIED:20170112T080759Z
UID:3299-1490274000-1490274000@rairc.com
SUMMARY:REALTORS Tech Toolbox By Craig Grant (4CEU)
DESCRIPTION:This course explores how today’s REALTOR\, regardless of their their tech knowledge or skill level can learn how to utilize & leverage the technology tools in their personal & business practices in a fast paced\, yet fun & easy to follow environment including: Understanding the Real Estate Consumer\, Finding consumers online\, Technology Buying Guides\, Maximizing e-mail\, Social Networking and Online marketing and more!  (4 CEU)
URL:https://rairc.com/event/03-23-2017-realtorstechtoolboxbycraiggrant4ceu/
CATEGORIES:,Continuing Education
END:VEVENT
END:VCALENDAR