BEGIN:VCALENDAR
VERSION:2.0
PRODID:-//RAIRC - ECPv6.15.15//NONSGML v1.0//EN
CALSCALE:GREGORIAN
METHOD:PUBLISH
X-ORIGINAL-URL:https://rairc.com
X-WR-CALDESC:Events for RAIRC
REFRESH-INTERVAL;VALUE=DURATION:PT1H
X-Robots-Tag:noindex
X-PUBLISHED-TTL:PT1H
BEGIN:VTIMEZONE
TZID:America/New_York
BEGIN:DAYLIGHT
TZOFFSETFROM:-0500
TZOFFSETTO:-0400
TZNAME:EDT
DTSTART:20180311T070000
END:DAYLIGHT
BEGIN:STANDARD
TZOFFSETFROM:-0400
TZOFFSETTO:-0500
TZNAME:EST
DTSTART:20181104T060000
END:STANDARD
BEGIN:DAYLIGHT
TZOFFSETFROM:-0500
TZOFFSETTO:-0400
TZNAME:EDT
DTSTART:20190310T070000
END:DAYLIGHT
BEGIN:STANDARD
TZOFFSETFROM:-0400
TZOFFSETTO:-0500
TZNAME:EST
DTSTART:20191103T060000
END:STANDARD
BEGIN:DAYLIGHT
TZOFFSETFROM:-0500
TZOFFSETTO:-0400
TZNAME:EDT
DTSTART:20200308T070000
END:DAYLIGHT
BEGIN:STANDARD
TZOFFSETFROM:-0400
TZOFFSETTO:-0500
TZNAME:EST
DTSTART:20201101T060000
END:STANDARD
END:VTIMEZONE
BEGIN:VEVENT
DTSTART;TZID=America/New_York:20190909T100000
DTEND;TZID=America/New_York:20190909T100000
DTSTAMP:20260423T193125
CREATED:20190107T200343Z
LAST-MODIFIED:20190107T200343Z
UID:4265-1568023200-1568023200@rairc.com
SUMMARY:MLS Training - Basic
DESCRIPTION:Basic MLS Training includes using MLS Resource links\, adding search fields\,  hotsheets\, field related controls\, viewing\, sorting\, and filtering a list\,  and tack related controls.
URL:https://rairc.com/event/09-09-2019-mlstraining-basic/
CATEGORIES:
END:VEVENT
BEGIN:VEVENT
DTSTART;TZID=America/New_York:20190909T133000
DTEND;TZID=America/New_York:20190909T133000
DTSTAMP:20260423T193125
CREATED:20190107T200343Z
LAST-MODIFIED:20190107T200343Z
UID:4266-1568035800-1568035800@rairc.com
SUMMARY:MLS Training - Listing Input
DESCRIPTION:Listing Input / Edit – Simple listing input\, adding\, and modifying listings\,  statistical reports\, using tax integration\, and using image submitter (Admin  access)
URL:https://rairc.com/event/09-09-2019-mlstraining-listinginput/
CATEGORIES:
END:VEVENT
BEGIN:VEVENT
DTSTART;TZID=America/New_York:20190912T090000
DTEND;TZID=America/New_York:20190912T090000
DTSTAMP:20260423T193125
CREATED:20190107T200341Z
LAST-MODIFIED:20190107T200341Z
UID:4230-1568278800-1568278800@rairc.com
SUMMARY:Core Law
DESCRIPTION:Core law focuses on recent changes to state and federal real estate license  law\, highlighting both law and rules. The Florida Legislature passes and  amends real estate law each year. Active or inactive brokers or salespersons  must take a 14-hour continuing education course during each 2-year license  period following the initial license renewal. This course meets the  prescribed 3 hours of core law continuing education. Instructor: Dick Fryer\n Sponsor: TBA
URL:https://rairc.com/event/09-12-2019-corelaw/
CATEGORIES:
END:VEVENT
BEGIN:VEVENT
DTSTART;TZID=America/New_York:20190912T130000
DTEND;TZID=America/New_York:20190912T130000
DTSTAMP:20260423T193125
CREATED:20190107T200342Z
LAST-MODIFIED:20190107T200342Z
UID:4233-1568293200-1568293200@rairc.com
SUMMARY:Code of Ethics
DESCRIPTION:This class satisfies the 3 hours required in ethics every 2 years with NAR.  Discussion will focus on NAR’s 2018 edition of Code of Ethics and Standards  of Practice as well as defining due process\, the functions of the Grievance  and of the Professional Standards Committee\, mediation\, and arbitration.  This course will also take you through hypothetical situations involving the  code of ethics\, arbitration\, and a full study of procuring cause.  Instructor: Richard Fryer\n Sponsor: TBA
URL:https://rairc.com/event/09-12-2019-codeofethics/
CATEGORIES:
END:VEVENT
BEGIN:VEVENT
DTSTART;TZID=America/New_York:20190920T130000
DTEND;TZID=America/New_York:20190920T130000
DTSTAMP:20260423T193125
CREATED:20190809T045003Z
LAST-MODIFIED:20190809T045003Z
UID:4409-1568984400-1568984400@rairc.com
SUMMARY:2019 Annual Installation & Awards Banquet
DESCRIPTION:RAIRC presents the Annual Installation & Awards Banquet on September 20th at  the Moorings Yacht & Country club (100 Harbour Dr\, Vero Beach\, FL 32963).  Suggested Time of arrival is 12:00 PM\, program will start at 1:00 PM & end  at 3:00 PM. Program consists of Installation of the 2020 Board of Directors\,  2019 REALTOR\, Rookie & Affiliate of the Year Awards and 2019 Leadership  recognition. Business attire is REQUIRED. **The Moorings Club has a No Denim  policy! All seating will be assigned in order of the reservations received.  Table reservations will be available for groups of 8. Group reservations  must deliver all payments together with a complete list of names to  register. Cash Bar available
URL:https://rairc.com/event/09-20-2019-2019annualinstallationandawardsbanquet/
CATEGORIES:
END:VEVENT
END:VCALENDAR