BEGIN:VCALENDAR
VERSION:2.0
PRODID:-//RAIRC - ECPv6.15.15//NONSGML v1.0//EN
CALSCALE:GREGORIAN
METHOD:PUBLISH
X-WR-CALNAME:RAIRC
X-ORIGINAL-URL:https://rairc.com
X-WR-CALDESC:Events for RAIRC
REFRESH-INTERVAL;VALUE=DURATION:PT1H
X-Robots-Tag:noindex
X-PUBLISHED-TTL:PT1H
BEGIN:VTIMEZONE
TZID:America/New_York
BEGIN:DAYLIGHT
TZOFFSETFROM:-0500
TZOFFSETTO:-0400
TZNAME:EDT
DTSTART:20180311T070000
END:DAYLIGHT
BEGIN:STANDARD
TZOFFSETFROM:-0400
TZOFFSETTO:-0500
TZNAME:EST
DTSTART:20181104T060000
END:STANDARD
BEGIN:DAYLIGHT
TZOFFSETFROM:-0500
TZOFFSETTO:-0400
TZNAME:EDT
DTSTART:20190310T070000
END:DAYLIGHT
BEGIN:STANDARD
TZOFFSETFROM:-0400
TZOFFSETTO:-0500
TZNAME:EST
DTSTART:20191103T060000
END:STANDARD
BEGIN:DAYLIGHT
TZOFFSETFROM:-0500
TZOFFSETTO:-0400
TZNAME:EDT
DTSTART:20200308T070000
END:DAYLIGHT
BEGIN:STANDARD
TZOFFSETFROM:-0400
TZOFFSETTO:-0500
TZNAME:EST
DTSTART:20201101T060000
END:STANDARD
END:VTIMEZONE
BEGIN:VEVENT
DTSTART;TZID=America/New_York:20190805T100000
DTEND;TZID=America/New_York:20190805T100000
DTSTAMP:20260423T122646
CREATED:20190107T200343Z
LAST-MODIFIED:20190107T200343Z
UID:4263-1564999200-1564999200@rairc.com
SUMMARY:MLS Training - Realist Tax
DESCRIPTION:Realist Tax – A customized public record / tax solution that is integrated  with our web-based MLS
URL:https://rairc.com/event/08-05-2019-mlstraining-realisttax/
CATEGORIES:
END:VEVENT
BEGIN:VEVENT
DTSTART;TZID=America/New_York:20190805T133000
DTEND;TZID=America/New_York:20190805T133000
DTSTAMP:20260423T122646
CREATED:20190107T200343Z
LAST-MODIFIED:20190107T200343Z
UID:4264-1565011800-1565011800@rairc.com
SUMMARY:MLS Training - Advanced/CMA
DESCRIPTION:Advanced / CMA – Searching\, hotsheets\, speed bar\, listing carts\, client  portal\, settings\, reverse prospecting\, Comparative Market Analysis (CMA)  management\, emailing clients\, using the concierge\, and auto notifications  settings.
URL:https://rairc.com/event/08-05-2019-mlstraining-advanced-cma/
CATEGORIES:
END:VEVENT
BEGIN:VEVENT
DTSTART;TZID=America/New_York:20190806T090000
DTEND;TZID=America/New_York:20190806T090000
DTSTAMP:20260423T122646
CREATED:20190107T200343Z
LAST-MODIFIED:20190107T200343Z
UID:4273-1565082000-1565082000@rairc.com
SUMMARY:Creating a Service-Driven Property Management Operation
DESCRIPTION:Join our instructors as they take you thru the creation and day to day  operations of their own property management offices. Learn to create  multiple sources of income streams from full property services. This course  includes the conceptual and legal aspects\, marketing techniques to attract  clients\, tenant issues\, insurance recommendations\, accounting requirements\,  staffing and financial planning. Whether you intend to add property  management as a compliment to your brokerage and sales activities\, or manage  thousands of units as Steve’s office does\, you’ll find solid\, real-world  ideas from this power-packed course.
URL:https://rairc.com/event/08-06-2019-creatingaservice-drivenpropertymanagementoperation/
CATEGORIES:
END:VEVENT
BEGIN:VEVENT
DTSTART;TZID=America/New_York:20190806T130000
DTEND;TZID=America/New_York:20190806T130000
DTSTAMP:20260423T122646
CREATED:20190107T200341Z
LAST-MODIFIED:20190107T200341Z
UID:4227-1565096400-1565096400@rairc.com
SUMMARY:Generation-ize your approach to communicating: A RE Professionalâ€™s Guide to Effective Communication
DESCRIPTION:This program discusses why some customers can prove to be moreâ€¦ challenging  than others to understand and communicate with. Weâ€™ll talk about how we as  adults can communicate differently than each other\, and how that is also  impacted by which GENERATION we come from. As real estate professionals\,  youâ€™ll leave with tips and insights to help you market yourself as well as  bridge the generation gap between you and your customers.
URL:https://rairc.com/event/08-06-2019-generation-izeyourapproachtocommunicating:areprofessionalâ€™sguidetoeffectivecommunication/
CATEGORIES:
END:VEVENT
BEGIN:VEVENT
DTSTART;TZID=America/New_York:20190815T121500
DTEND;TZID=America/New_York:20190815T121500
DTSTAMP:20260423T122646
CREATED:20190107T200342Z
LAST-MODIFIED:20190107T200342Z
UID:4237-1565871300-1565871300@rairc.com
SUMMARY:General Membership Meeting
DESCRIPTION:Lunch is provided by Catering Revolution and will be served at 12:15 PM.\n The meeting is Called to Order at 12:30 PM.\n Program/Speaker: Congressman Bill Posey\n Sponsor: TBA
URL:https://rairc.com/event/08-15-2019-generalmembershipmeeting/
CATEGORIES:
END:VEVENT
BEGIN:VEVENT
DTSTART;TZID=America/New_York:20190822T090000
DTEND;TZID=America/New_York:20190822T090000
DTSTAMP:20260423T122646
CREATED:20190107T200342Z
LAST-MODIFIED:20190107T200342Z
UID:4247-1566464400-1566464400@rairc.com
SUMMARY:The Ins and Outs of Successful Contracts
DESCRIPTION:Contracts can be exciting! Learn the real ins and outs from one of the top  Brokers in Florida. Complete a contract right at outset\, and assure yourself  of profitable closings for all concerned. Armslength\, short sale REO\, your  Instructor does them successfully every day. You will as well!
URL:https://rairc.com/event/08-22-2019-theinsandoutsofsuccessfulcontracts/
CATEGORIES:
END:VEVENT
BEGIN:VEVENT
DTSTART;TZID=America/New_York:20190822T130000
DTEND;TZID=America/New_York:20190822T130000
DTSTAMP:20260423T122646
CREATED:20190107T200342Z
LAST-MODIFIED:20190107T200342Z
UID:4248-1566478800-1566478800@rairc.com
SUMMARY:Preparing and Navigating a Listing Contract
DESCRIPTION:Listing Contracts are an important part of the real estate business. They  communicate who is responsible to do what\, give a time period for those  items to be performed\, and guarantee the listing broker to be paid for these  services. Having all the ‘T’s crossed and ‘I’s dotted can mean the  difference of getting paid and not getting paid. In this course you’ll leave  with a deeper knowledge of various types of listing contracts\, the  difference between them\, and some options to guarantee compensation while  making your way to the closing table.
URL:https://rairc.com/event/08-22-2019-preparingandnavigatingalistingcontract/
CATEGORIES:
END:VEVENT
END:VCALENDAR