BEGIN:VCALENDAR
VERSION:2.0
PRODID:-//RAIRC - ECPv6.15.15//NONSGML v1.0//EN
CALSCALE:GREGORIAN
METHOD:PUBLISH
X-ORIGINAL-URL:https://rairc.com
X-WR-CALDESC:Events for RAIRC
REFRESH-INTERVAL;VALUE=DURATION:PT1H
X-Robots-Tag:noindex
X-PUBLISHED-TTL:PT1H
BEGIN:VTIMEZONE
TZID:America/New_York
BEGIN:DAYLIGHT
TZOFFSETFROM:-0500
TZOFFSETTO:-0400
TZNAME:EDT
DTSTART:20160313T070000
END:DAYLIGHT
BEGIN:STANDARD
TZOFFSETFROM:-0400
TZOFFSETTO:-0500
TZNAME:EST
DTSTART:20161106T060000
END:STANDARD
BEGIN:DAYLIGHT
TZOFFSETFROM:-0500
TZOFFSETTO:-0400
TZNAME:EDT
DTSTART:20170312T070000
END:DAYLIGHT
BEGIN:STANDARD
TZOFFSETFROM:-0400
TZOFFSETTO:-0500
TZNAME:EST
DTSTART:20171105T060000
END:STANDARD
BEGIN:DAYLIGHT
TZOFFSETFROM:-0500
TZOFFSETTO:-0400
TZNAME:EDT
DTSTART:20180311T070000
END:DAYLIGHT
BEGIN:STANDARD
TZOFFSETFROM:-0400
TZOFFSETTO:-0500
TZNAME:EST
DTSTART:20181104T060000
END:STANDARD
END:VTIMEZONE
BEGIN:VEVENT
DTSTART;TZID=America/New_York:20170403T100000
DTEND;TZID=America/New_York:20170403T100000
DTSTAMP:20260422T234459
CREATED:20161207T180257Z
LAST-MODIFIED:20170112T080323Z
UID:3235-1491213600-1491213600@rairc.com
SUMMARY:MLS Training - Realist Tax
DESCRIPTION:MLS Training on GoMLS App\n MLSofIRC
URL:https://rairc.com/event/04-03-2017-mlstraining-realisttax/
CATEGORIES:,MLS
END:VEVENT
BEGIN:VEVENT
DTSTART;TZID=America/New_York:20170403T133000
DTEND;TZID=America/New_York:20170403T133000
DTSTAMP:20260422T234459
CREATED:20161207T180257Z
LAST-MODIFIED:20170112T080310Z
UID:3236-1491226200-1491226200@rairc.com
SUMMARY:MLS Training - Listing Input
DESCRIPTION:MLS Matrix Training\n Realist
URL:https://rairc.com/event/04-03-2017-mlstraining-listinginput/
CATEGORIES:,MLS
END:VEVENT
BEGIN:VEVENT
DTSTART;TZID=America/New_York:20170404T130000
DTEND;TZID=America/New_York:20170404T130000
DTSTAMP:20260422T234459
CREATED:20170112T080410Z
LAST-MODIFIED:20170112T080731Z
UID:3277-1491310800-1491310800@rairc.com
SUMMARY:De-Mystifying the Appraisal Process
DESCRIPTION:This program educates today’s real estate consumer on the appraisal process\, through the Realtor. With so many short sales and foreclosures\, today’s appraisal values (and consumer tempers) can be all over the place. Consumers want to make sure they are getting ‘a good deal’ and may sometimes feel that they should be paying less than a listeted price\, or wonder why their ‘low ball’ offer on the short sale wasn’t accepted. This course provides the Realtor with the insight and expertise to work with their customer in understanding a home’s appraised value in today’s market.\n Class is 1:00 – 4:00 PM. Course earns 3 CE’s.\n Instructor: Julianna Giordano\n Sponsor: TBD
URL:https://rairc.com/event/04-04-2017-de-mystifyingtheappraisalprocess/
CATEGORIES:,Continuing Education
END:VEVENT
BEGIN:VEVENT
DTSTART;TZID=America/New_York:20170411T130000
DTEND;TZID=America/New_York:20170411T130000
DTSTAMP:20260422T234459
CREATED:20170112T080411Z
LAST-MODIFIED:20170112T080721Z
UID:3298-1491915600-1491915600@rairc.com
SUMMARY:Real Estate Safety Matters w/ Richard Fryer
DESCRIPTION:Developed in partnership with NAR’s REALTOR Safety program\, this three-hour course is an essential primer on how real estate professionals can limit risk to preserve safety- their safety\, their clients safety- and for positive business outcomes. Students will learn how to assess risk in their current practice and create safety systems\, scripts\, and tools for listing appointments\, showing property\, and conducting open houses. Students will also learn how to protect personal and electronic information online\, in the cloud\, and on social networks. As a practical resource\, this course offers easy to remember strategies for real estate professionals when facing potentially dangerous situations.  \n Instructor: Richard Fryer
URL:https://rairc.com/event/04-11-2017-realestatesafetymattersw-richardfryer/
CATEGORIES:,Continuing Education
END:VEVENT
BEGIN:VEVENT
DTSTART;TZID=America/New_York:20170420T121500
DTEND;TZID=America/New_York:20170420T121500
DTSTAMP:20260422T234459
CREATED:20170112T080410Z
LAST-MODIFIED:20170112T080709Z
UID:3282-1492690500-1492690500@rairc.com
SUMMARY:General Membership Meeting
DESCRIPTION:Lunch is provided by N/A and will be served at 12:15PM.\n The meeting is Called to Order at 12:30PM.\n Program/Speaker:\n Sponsor:
URL:https://rairc.com/event/04-20-2017-generalmembershipmeeting/
CATEGORIES:,Event
END:VEVENT
END:VCALENDAR