BEGIN:VCALENDAR
VERSION:2.0
PRODID:-//RAIRC - ECPv6.15.15//NONSGML v1.0//EN
CALSCALE:GREGORIAN
METHOD:PUBLISH
X-ORIGINAL-URL:https://rairc.com
X-WR-CALDESC:Events for RAIRC
REFRESH-INTERVAL;VALUE=DURATION:PT1H
X-Robots-Tag:noindex
X-PUBLISHED-TTL:PT1H
BEGIN:VTIMEZONE
TZID:America/New_York
BEGIN:DAYLIGHT
TZOFFSETFROM:-0500
TZOFFSETTO:-0400
TZNAME:EDT
DTSTART:20200308T070000
END:DAYLIGHT
BEGIN:STANDARD
TZOFFSETFROM:-0400
TZOFFSETTO:-0500
TZNAME:EST
DTSTART:20201101T060000
END:STANDARD
BEGIN:DAYLIGHT
TZOFFSETFROM:-0500
TZOFFSETTO:-0400
TZNAME:EDT
DTSTART:20210314T070000
END:DAYLIGHT
BEGIN:STANDARD
TZOFFSETFROM:-0400
TZOFFSETTO:-0500
TZNAME:EST
DTSTART:20211107T060000
END:STANDARD
BEGIN:DAYLIGHT
TZOFFSETFROM:-0500
TZOFFSETTO:-0400
TZNAME:EDT
DTSTART:20220313T070000
END:DAYLIGHT
BEGIN:STANDARD
TZOFFSETFROM:-0400
TZOFFSETTO:-0500
TZNAME:EST
DTSTART:20221106T060000
END:STANDARD
END:VTIMEZONE
BEGIN:VEVENT
DTSTART;TZID=America/New_York:20210909T100000
DTEND;TZID=America/New_York:20210909T120000
DTSTAMP:20260421T125439
CREATED:20210331T134604Z
LAST-MODIFIED:20210331T134604Z
UID:5004-1631181600-1631188800@rairc.com
SUMMARY:REALTOR® Safety - Smart Business
DESCRIPTION:Safety should be at the top of the list of things every a REALTOR® should be concerned about. We meet complete strangers that in any other venue we would be suspicious of\, but in the context of being a customer\, we trust them fully. Unfortunately\, this has caused our profession to be targeted by people with less-thanwholesome intentions. They know we’re alone? they know we don’t want to “offend” a possible paycheck? and they know many of us are untrained in how to protect ourselves. Take this course and learn tips on how to put SAFETY FIRST! 2 hours CE credit.
URL:https://rairc.com/event/realtor-safety-smart-business/
LOCATION:REALTORS Association of Indian River County\, 3250 67th Street\, Vero Beach\, FL\, 33037\, United States
CATEGORIES:Continuing Education
ORGANIZER;CN="REALTORS Association of Indian River County":MAILTO:education@rairc.com
GEO:27.715576;-80.4192745
X-APPLE-STRUCTURED-LOCATION;VALUE=URI;X-ADDRESS=REALTORS Association of Indian River County 3250 67th Street Vero Beach FL 33037 United States;X-APPLE-RADIUS=500;X-TITLE=3250 67th Street:geo:-80.4192745,27.715576
END:VEVENT
BEGIN:VEVENT
DTSTART;TZID=America/New_York:20210909T130000
DTEND;TZID=America/New_York:20210909T130000
DTSTAMP:20260421T125439
CREATED:20201119T212310Z
LAST-MODIFIED:20201119T212310Z
UID:4895-1631192400-1631192400@rairc.com
SUMMARY:If You Can't List You Can't Last
DESCRIPTION:No matter how much you prepare\, practice and rehearse\, one thing is certain;  when you first try something new\, you may experience failures. You have to  tell yourself\, â€œI am going to make it\, no matter what it takes. I will  become a â€œListing Specialistâ€!\n This course provides practical listing techniques to list more and list more  easily. By following the suggestions in this course\, you will accelerate  yourself to a â€œListing Specialistâ€! 3 hours CE credit.
URL:https://rairc.com/event/09-09-2021-ifyoucantlistyoucantlast/
CATEGORIES:
END:VEVENT
END:VCALENDAR