BEGIN:VCALENDAR
VERSION:2.0
PRODID:-//RAIRC - ECPv6.15.15//NONSGML v1.0//EN
CALSCALE:GREGORIAN
METHOD:PUBLISH
X-WR-CALNAME:RAIRC
X-ORIGINAL-URL:https://rairc.com
X-WR-CALDESC:Events for RAIRC
REFRESH-INTERVAL;VALUE=DURATION:PT1H
X-Robots-Tag:noindex
X-PUBLISHED-TTL:PT1H
BEGIN:VTIMEZONE
TZID:America/New_York
BEGIN:DAYLIGHT
TZOFFSETFROM:-0500
TZOFFSETTO:-0400
TZNAME:EDT
DTSTART:20200308T070000
END:DAYLIGHT
BEGIN:STANDARD
TZOFFSETFROM:-0400
TZOFFSETTO:-0500
TZNAME:EST
DTSTART:20201101T060000
END:STANDARD
BEGIN:DAYLIGHT
TZOFFSETFROM:-0500
TZOFFSETTO:-0400
TZNAME:EDT
DTSTART:20210314T070000
END:DAYLIGHT
BEGIN:STANDARD
TZOFFSETFROM:-0400
TZOFFSETTO:-0500
TZNAME:EST
DTSTART:20211107T060000
END:STANDARD
BEGIN:DAYLIGHT
TZOFFSETFROM:-0500
TZOFFSETTO:-0400
TZNAME:EDT
DTSTART:20220313T070000
END:DAYLIGHT
BEGIN:STANDARD
TZOFFSETFROM:-0400
TZOFFSETTO:-0500
TZNAME:EST
DTSTART:20221106T060000
END:STANDARD
END:VTIMEZONE
BEGIN:VEVENT
DTSTART;TZID=America/New_York:20210513T090000
DTEND;TZID=America/New_York:20210513T130000
DTSTAMP:20260422T133027
CREATED:20201119T212309Z
LAST-MODIFIED:20210419T151739Z
UID:4861-1620896400-1620910800@rairc.com
SUMMARY:Virtual Course - How to Market Like a Rockstar on a Roadies Budget
DESCRIPTION:This is a virtual Zoom course! You will receive the link to register for the course via Zoom after you register. Today’s consumer have access to more information & tools & are more mobile than ever before which has changed them in many ways. Â One of the biggest changes is how consumers are affected by marketing and make their business decisions as they are inundated with marketing messages. Â So for a REALTOR to succeed the need to adapt and change their marketing techniques & by making promotions more targeted\, personal & visual and leveraging newer platforms including video & social media. \nThis session will explore how consumers are changing and what marketing techniques & tools you can implement for little or no cost and that require little technical skill or knowledge. \n4 hours CE credit.
URL:https://rairc.com/event/05-13-2021-howtomarketlikearockstaronaroadiesbudget/
LOCATION:3250 67th Street\, Vero Beach\, FL\, 32967\, United States
CATEGORIES:
GEO:27.6648274;-81.5157535
X-APPLE-STRUCTURED-LOCATION;VALUE=URI;X-ADDRESS=3250 67th Street Vero Beach FL 32967 United States;X-APPLE-RADIUS=500;X-TITLE=3250 67th Street:geo:-81.5157535,27.6648274
END:VEVENT
END:VCALENDAR