BEGIN:VCALENDAR
VERSION:2.0
PRODID:-//RAIRC - ECPv6.15.15//NONSGML v1.0//EN
CALSCALE:GREGORIAN
METHOD:PUBLISH
X-ORIGINAL-URL:https://rairc.com
X-WR-CALDESC:Events for RAIRC
REFRESH-INTERVAL;VALUE=DURATION:PT1H
X-Robots-Tag:noindex
X-PUBLISHED-TTL:PT1H
BEGIN:VTIMEZONE
TZID:America/New_York
BEGIN:DAYLIGHT
TZOFFSETFROM:-0500
TZOFFSETTO:-0400
TZNAME:EDT
DTSTART:20200308T070000
END:DAYLIGHT
BEGIN:STANDARD
TZOFFSETFROM:-0400
TZOFFSETTO:-0500
TZNAME:EST
DTSTART:20201101T060000
END:STANDARD
BEGIN:DAYLIGHT
TZOFFSETFROM:-0500
TZOFFSETTO:-0400
TZNAME:EDT
DTSTART:20210314T070000
END:DAYLIGHT
BEGIN:STANDARD
TZOFFSETFROM:-0400
TZOFFSETTO:-0500
TZNAME:EST
DTSTART:20211107T060000
END:STANDARD
BEGIN:DAYLIGHT
TZOFFSETFROM:-0500
TZOFFSETTO:-0400
TZNAME:EDT
DTSTART:20220313T070000
END:DAYLIGHT
BEGIN:STANDARD
TZOFFSETFROM:-0400
TZOFFSETTO:-0500
TZNAME:EST
DTSTART:20221106T060000
END:STANDARD
END:VTIMEZONE
BEGIN:VEVENT
DTSTART;TZID=America/New_York:20210107T090000
DTEND;TZID=America/New_York:20210107T090000
DTSTAMP:20260424T220016
CREATED:20201119T212309Z
LAST-MODIFIED:20201119T212309Z
UID:4858-1610010000-1610010000@rairc.com
SUMMARY:The Ins and Outs of Successful Contracts
DESCRIPTION:Contracts can be exciting! Learn the real ins and outs from one of the top  Brokers in Florida. Complete a contract right at outset\, and assure yourself  of profitable closings for all concerned. Armslength\, short sale REO\, your  Instructor does them successfully every day. You will as well! 3 hours CE  credit.
URL:https://rairc.com/event/01-07-2021-theinsandoutsofsuccessfulcontracts/
CATEGORIES:
END:VEVENT
BEGIN:VEVENT
DTSTART;TZID=America/New_York:20210107T130000
DTEND;TZID=America/New_York:20210107T160000
DTSTAMP:20260424T220016
CREATED:20210104T141457Z
LAST-MODIFIED:20210104T141457Z
UID:4913-1610024400-1610035200@rairc.com
SUMMARY:Comprehensive Riders
DESCRIPTION:You want your contract to close\, right? This course insures you’ll know what you’re writing\, the right form for the right transaction and staying out of court. Buyer wants to obtain financing\, and doesn’t want to risk their deposit\, what forms do you use? In this program you’ll learn exactly what you need\, how to fill it out\, and get the deal closed. It’s Sunday\, you’ve got a buyer\, and you don’t know what to do? Spend a few hours in this course and you’ll never doubt your skills again. Riders by definition are attached to something because the “something” didn’t cover it. Together we’ll insure that you’ll know what form to use for every type of transaction. 3 hours CE credit.
URL:https://rairc.com/event/comprehensive-riders/
LOCATION:REALTORS Association of Indian River County\, 3250 67th Street\, Vero Beach\, FL\, 33037\, United States
ORGANIZER;CN="REALTORS Association of Indian River County":MAILTO:education@rairc.com
GEO:27.715576;-80.4192745
X-APPLE-STRUCTURED-LOCATION;VALUE=URI;X-ADDRESS=REALTORS Association of Indian River County 3250 67th Street Vero Beach FL 33037 United States;X-APPLE-RADIUS=500;X-TITLE=3250 67th Street:geo:-80.4192745,27.715576
END:VEVENT
END:VCALENDAR