BEGIN:VCALENDAR
VERSION:2.0
PRODID:-//RAIRC - ECPv6.15.15//NONSGML v1.0//EN
CALSCALE:GREGORIAN
METHOD:PUBLISH
X-ORIGINAL-URL:https://rairc.com
X-WR-CALDESC:Events for RAIRC
REFRESH-INTERVAL;VALUE=DURATION:PT1H
X-Robots-Tag:noindex
X-PUBLISHED-TTL:PT1H
BEGIN:VTIMEZONE
TZID:America/New_York
BEGIN:DAYLIGHT
TZOFFSETFROM:-0500
TZOFFSETTO:-0400
TZNAME:EDT
DTSTART:20180311T070000
END:DAYLIGHT
BEGIN:STANDARD
TZOFFSETFROM:-0400
TZOFFSETTO:-0500
TZNAME:EST
DTSTART:20181104T060000
END:STANDARD
BEGIN:DAYLIGHT
TZOFFSETFROM:-0500
TZOFFSETTO:-0400
TZNAME:EDT
DTSTART:20190310T070000
END:DAYLIGHT
BEGIN:STANDARD
TZOFFSETFROM:-0400
TZOFFSETTO:-0500
TZNAME:EST
DTSTART:20191103T060000
END:STANDARD
BEGIN:DAYLIGHT
TZOFFSETFROM:-0500
TZOFFSETTO:-0400
TZNAME:EDT
DTSTART:20200308T070000
END:DAYLIGHT
BEGIN:STANDARD
TZOFFSETFROM:-0400
TZOFFSETTO:-0500
TZNAME:EST
DTSTART:20201101T060000
END:STANDARD
END:VTIMEZONE
BEGIN:VEVENT
DTSTART;TZID=America/New_York:20190822T090000
DTEND;TZID=America/New_York:20190822T090000
DTSTAMP:20260421T002009
CREATED:20190107T200342Z
LAST-MODIFIED:20190107T200342Z
UID:4247-1566464400-1566464400@rairc.com
SUMMARY:The Ins and Outs of Successful Contracts
DESCRIPTION:Contracts can be exciting! Learn the real ins and outs from one of the top  Brokers in Florida. Complete a contract right at outset\, and assure yourself  of profitable closings for all concerned. Armslength\, short sale REO\, your  Instructor does them successfully every day. You will as well!
URL:https://rairc.com/event/08-22-2019-theinsandoutsofsuccessfulcontracts/
CATEGORIES:
END:VEVENT
BEGIN:VEVENT
DTSTART;TZID=America/New_York:20190822T130000
DTEND;TZID=America/New_York:20190822T130000
DTSTAMP:20260421T002009
CREATED:20190107T200342Z
LAST-MODIFIED:20190107T200342Z
UID:4248-1566478800-1566478800@rairc.com
SUMMARY:Preparing and Navigating a Listing Contract
DESCRIPTION:Listing Contracts are an important part of the real estate business. They  communicate who is responsible to do what\, give a time period for those  items to be performed\, and guarantee the listing broker to be paid for these  services. Having all the ‘T’s crossed and ‘I’s dotted can mean the  difference of getting paid and not getting paid. In this course you’ll leave  with a deeper knowledge of various types of listing contracts\, the  difference between them\, and some options to guarantee compensation while  making your way to the closing table.
URL:https://rairc.com/event/08-22-2019-preparingandnavigatingalistingcontract/
CATEGORIES:
END:VEVENT
END:VCALENDAR