BEGIN:VCALENDAR
VERSION:2.0
PRODID:-//RAIRC - ECPv6.15.15//NONSGML v1.0//EN
CALSCALE:GREGORIAN
METHOD:PUBLISH
X-ORIGINAL-URL:https://rairc.com
X-WR-CALDESC:Events for RAIRC
REFRESH-INTERVAL;VALUE=DURATION:PT1H
X-Robots-Tag:noindex
X-PUBLISHED-TTL:PT1H
BEGIN:VTIMEZONE
TZID:America/New_York
BEGIN:DAYLIGHT
TZOFFSETFROM:-0500
TZOFFSETTO:-0400
TZNAME:EDT
DTSTART:20170312T070000
END:DAYLIGHT
BEGIN:STANDARD
TZOFFSETFROM:-0400
TZOFFSETTO:-0500
TZNAME:EST
DTSTART:20171105T060000
END:STANDARD
BEGIN:DAYLIGHT
TZOFFSETFROM:-0500
TZOFFSETTO:-0400
TZNAME:EDT
DTSTART:20180311T070000
END:DAYLIGHT
BEGIN:STANDARD
TZOFFSETFROM:-0400
TZOFFSETTO:-0500
TZNAME:EST
DTSTART:20181104T060000
END:STANDARD
BEGIN:DAYLIGHT
TZOFFSETFROM:-0500
TZOFFSETTO:-0400
TZNAME:EDT
DTSTART:20190310T070000
END:DAYLIGHT
BEGIN:STANDARD
TZOFFSETFROM:-0400
TZOFFSETTO:-0500
TZNAME:EST
DTSTART:20191103T060000
END:STANDARD
END:VTIMEZONE
BEGIN:VEVENT
DTSTART;TZID=America/New_York:20180921T090000
DTEND;TZID=America/New_York:20180921T090000
DTSTAMP:20260424T014710
CREATED:20180817T082114Z
LAST-MODIFIED:20180817T082114Z
UID:4035-1537520400-1537520400@rairc.com
SUMMARY:2018 Annual Installation & Awards Banquet
DESCRIPTION:RAIRC presents the Annual Installation & Awards Banquet September 21st at  Quail Valley River Club (2345 Florida A1A\, Vero Beach\, FL 32963). Suggested  Time of arrival is 9:00 AM\, program will start at 9:30 AM & end at 12:30 PM.  Program consists of Installation of 2019 Board of Directors\, REALTOR\, Rookie  & Affiliate of the Year Awards and Leadership recognition. Business attire  is REQUIRED. Seating is limited to 200. All seating will be assigned in  order of the reservations received. Table reservations will be available for  groups of 10. Group reservations must deliver all payments together with a  complete list of names to register. Menu: Omelet station and a breakfast  buffet including pastries\, fresh fruit\, quiche\, cheesy potato caserole\,  bacon\, sausage\, corned beef hash\, fruit crepes and yougrt. Cash Bar available
URL:https://rairc.com/event/09-21-2018-2018annualinstallationandawardsbanquet/
CATEGORIES:
END:VEVENT
END:VCALENDAR