BEGIN:VCALENDAR
VERSION:2.0
PRODID:-//RAIRC - ECPv6.15.15//NONSGML v1.0//EN
CALSCALE:GREGORIAN
METHOD:PUBLISH
X-WR-CALNAME:RAIRC
X-ORIGINAL-URL:https://rairc.com
X-WR-CALDESC:Events for RAIRC
REFRESH-INTERVAL;VALUE=DURATION:PT1H
X-Robots-Tag:noindex
X-PUBLISHED-TTL:PT1H
BEGIN:VTIMEZONE
TZID:America/New_York
BEGIN:DAYLIGHT
TZOFFSETFROM:-0500
TZOFFSETTO:-0400
TZNAME:EDT
DTSTART:20170312T070000
END:DAYLIGHT
BEGIN:STANDARD
TZOFFSETFROM:-0400
TZOFFSETTO:-0500
TZNAME:EST
DTSTART:20171105T060000
END:STANDARD
BEGIN:DAYLIGHT
TZOFFSETFROM:-0500
TZOFFSETTO:-0400
TZNAME:EDT
DTSTART:20180311T070000
END:DAYLIGHT
BEGIN:STANDARD
TZOFFSETFROM:-0400
TZOFFSETTO:-0500
TZNAME:EST
DTSTART:20181104T060000
END:STANDARD
BEGIN:DAYLIGHT
TZOFFSETFROM:-0500
TZOFFSETTO:-0400
TZNAME:EDT
DTSTART:20190310T070000
END:DAYLIGHT
BEGIN:STANDARD
TZOFFSETFROM:-0400
TZOFFSETTO:-0500
TZNAME:EST
DTSTART:20191103T060000
END:STANDARD
END:VTIMEZONE
BEGIN:VEVENT
DTSTART;TZID=America/New_York:20180807T090000
DTEND;TZID=America/New_York:20180807T090000
DTSTAMP:20260421T030711
CREATED:20171102T164302Z
LAST-MODIFIED:20171102T164302Z
UID:3692-1533632400-1533632400@rairc.com
SUMMARY:Meeting The Needs For Challenging Clients
DESCRIPTION:Most RealtorsÂ® had the realization early on in their careers that the so  called â€œdifficultâ€ person must shop for a roof over their head just as much  as the amicable people of the world! To compound the situation\, potential  buyers are embarking on a very impactful milestone in their lives in buying  a home\, and this can bring out the stressed side of just about anyone at  times.   \n So how does a RealtorÂ® dissolve conflict or personality clashes when doing  business? How do they know if they may be perceived as challenging and  stubborn? This course will help RealtorsÂ® diffuse conflict\, engage in active  listening\, and produce solutions for their client without becoming mired  down in conflict and misunderstanding. The lessons will provide professional  and effective means for learning how to work with wide-ranging personality  types and dispositions.
URL:https://rairc.com/event/08-07-2018-meetingtheneedsforchallengingclients/
CATEGORIES:
END:VEVENT
BEGIN:VEVENT
DTSTART;TZID=America/New_York:20180807T130000
DTEND;TZID=America/New_York:20180807T130000
DTSTAMP:20260421T030711
CREATED:20171102T164302Z
LAST-MODIFIED:20171102T164302Z
UID:3694-1533646800-1533646800@rairc.com
SUMMARY:Negotiating Skills For Today's RE Professional
DESCRIPTION:This course examines the art of negotiation and what it can mean for a real  estate professional when practiced correctly. It will help RealtorsÂ®  determine what negotiation is and how they can use it to find a solution. In  learning that negotiating is finding a suitable compromise while keeping the  focus on what each party needs to get out of the situation\, students will  understand that negotiation is a valuable skill that can assist them in and  out of work situations. RealtorsÂ® will learn about themselves to best  understand how to negotiate with their clients. Best of all\, it can help  them earn more money and get the results they desire.
URL:https://rairc.com/event/08-07-2018-negotiatingskillsfortodaysreprofessional/
CATEGORIES:
END:VEVENT
END:VCALENDAR