BEGIN:VCALENDAR
VERSION:2.0
PRODID:-//RAIRC - ECPv6.15.15//NONSGML v1.0//EN
CALSCALE:GREGORIAN
METHOD:PUBLISH
X-ORIGINAL-URL:https://rairc.com
X-WR-CALDESC:Events for RAIRC
REFRESH-INTERVAL;VALUE=DURATION:PT1H
X-Robots-Tag:noindex
X-PUBLISHED-TTL:PT1H
BEGIN:VTIMEZONE
TZID:UTC
BEGIN:STANDARD
TZOFFSETFROM:+0000
TZOFFSETTO:+0000
TZNAME:UTC
DTSTART:20170101T000000
END:STANDARD
END:VTIMEZONE
BEGIN:VEVENT
DTSTART;TZID=UTC:20180614T130000
DTEND;TZID=UTC:20180614T170000
DTSTAMP:20260420T151524
CREATED:20180404T011907Z
LAST-MODIFIED:20180614T202055Z
UID:3961-1528981200-1528995600@rairc.com
SUMMARY:How to Market Like a Rockstar on a Roadies Budget
DESCRIPTION:Todayâ€™s consumer have access to more information & tools & are more mobile  than ever before which has changed them in many ways. Â One of the biggest  changes is how consumers are affected by marketing and make their business  decisions as they are inundated with marketing messages. Â So for a REALTOR  to succeed the need to adapt and change their marketing techniques & by  making promotions more targeted\, personal & visual and leveraging newer  platforms including video & social media. Â  \n This session will explore how consumers are changing and what marketing  techniques & tools you can implement for little or no cost and that require  little technical skill or knowledge.
URL:https://rairc.com/event/06-14-2018-howtomarketlikearockstaronaroadiesbudget/
LOCATION:3250 67th Street\, Vero Beach\, FL\, 32967\, United States
CATEGORIES:
GEO:27.7155488;-80.4193555
X-APPLE-STRUCTURED-LOCATION;VALUE=URI;X-ADDRESS=3250 67th Street Vero Beach FL 32967 United States;X-APPLE-RADIUS=500;X-TITLE=3250 67th Street:geo:-80.4193555,27.7155488
END:VEVENT
END:VCALENDAR