BEGIN:VCALENDAR
VERSION:2.0
PRODID:-//RAIRC - ECPv6.15.15//NONSGML v1.0//EN
CALSCALE:GREGORIAN
METHOD:PUBLISH
X-WR-CALNAME:RAIRC
X-ORIGINAL-URL:https://rairc.com
X-WR-CALDESC:Events for RAIRC
REFRESH-INTERVAL;VALUE=DURATION:PT1H
X-Robots-Tag:noindex
X-PUBLISHED-TTL:PT1H
BEGIN:VTIMEZONE
TZID:America/New_York
BEGIN:DAYLIGHT
TZOFFSETFROM:-0500
TZOFFSETTO:-0400
TZNAME:EDT
DTSTART:20170312T070000
END:DAYLIGHT
BEGIN:STANDARD
TZOFFSETFROM:-0400
TZOFFSETTO:-0500
TZNAME:EST
DTSTART:20171105T060000
END:STANDARD
BEGIN:DAYLIGHT
TZOFFSETFROM:-0500
TZOFFSETTO:-0400
TZNAME:EDT
DTSTART:20180311T070000
END:DAYLIGHT
BEGIN:STANDARD
TZOFFSETFROM:-0400
TZOFFSETTO:-0500
TZNAME:EST
DTSTART:20181104T060000
END:STANDARD
BEGIN:DAYLIGHT
TZOFFSETFROM:-0500
TZOFFSETTO:-0400
TZNAME:EDT
DTSTART:20190310T070000
END:DAYLIGHT
BEGIN:STANDARD
TZOFFSETFROM:-0400
TZOFFSETTO:-0500
TZNAME:EST
DTSTART:20191103T060000
END:STANDARD
END:VTIMEZONE
BEGIN:VEVENT
DTSTART;TZID=America/New_York:20180130T090000
DTEND;TZID=America/New_York:20180130T090000
DTSTAMP:20260421T030116
CREATED:20171111T015534Z
LAST-MODIFIED:20171111T015534Z
UID:3711-1517302800-1517302800@rairc.com
SUMMARY:PRUDENT RISK MANAGEMENT FOR REALTORS
DESCRIPTION:This course reviews the most common risks associated with the ownership of a  Brokerage firm and the practice of real estate (including Short\n Sales). It includes several recommendations\, but should not be construed as  the final word on risk management. The student?s job is to understand\n the risks\, prepare for them\, and avoid the creation of unnecessary risk.
URL:https://rairc.com/event/01-30-2018-prudentriskmanagementforrealtors/
CATEGORIES:
END:VEVENT
BEGIN:VEVENT
DTSTART;TZID=America/New_York:20180130T130000
DTEND;TZID=America/New_York:20180130T130000
DTSTAMP:20260421T030116
CREATED:20171111T015534Z
LAST-MODIFIED:20171111T015534Z
UID:3707-1517317200-1517317200@rairc.com
SUMMARY:Preparing and Navigating a Listing Contract
DESCRIPTION:Listing Contracts are an important part of the real estate business. They communicate who is responsible to do what\, give a time period for those items to be performed\, and guarantee the listing broker to be paid for these services. Having all the ‘T’s crossed and ‘I’s dotted can mean the difference of getting paid and not getting paid. In this course you’ll leave with a deeper knowledge of various types of listing contracts\, the difference between them\, and some options to guarantee compensation while making your way to the closing table.
URL:https://rairc.com/event/01-30-2018-preparingandnavigatingalistingcontract/
CATEGORIES:
END:VEVENT
END:VCALENDAR