BEGIN:VCALENDAR
VERSION:2.0
PRODID:-//RAIRC - ECPv6.15.15//NONSGML v1.0//EN
CALSCALE:GREGORIAN
METHOD:PUBLISH
X-ORIGINAL-URL:https://rairc.com
X-WR-CALDESC:Events for RAIRC
REFRESH-INTERVAL;VALUE=DURATION:PT1H
X-Robots-Tag:noindex
X-PUBLISHED-TTL:PT1H
BEGIN:VTIMEZONE
TZID:America/New_York
BEGIN:DAYLIGHT
TZOFFSETFROM:-0500
TZOFFSETTO:-0400
TZNAME:EDT
DTSTART:20170312T070000
END:DAYLIGHT
BEGIN:STANDARD
TZOFFSETFROM:-0400
TZOFFSETTO:-0500
TZNAME:EST
DTSTART:20171105T060000
END:STANDARD
BEGIN:DAYLIGHT
TZOFFSETFROM:-0500
TZOFFSETTO:-0400
TZNAME:EDT
DTSTART:20180311T070000
END:DAYLIGHT
BEGIN:STANDARD
TZOFFSETFROM:-0400
TZOFFSETTO:-0500
TZNAME:EST
DTSTART:20181104T060000
END:STANDARD
BEGIN:DAYLIGHT
TZOFFSETFROM:-0500
TZOFFSETTO:-0400
TZNAME:EDT
DTSTART:20190310T070000
END:DAYLIGHT
BEGIN:STANDARD
TZOFFSETFROM:-0400
TZOFFSETTO:-0500
TZNAME:EST
DTSTART:20191103T060000
END:STANDARD
END:VTIMEZONE
BEGIN:VEVENT
DTSTART;TZID=America/New_York:20180125T090000
DTEND;TZID=America/New_York:20180125T090000
DTSTAMP:20260421T061639
CREATED:20171102T164302Z
LAST-MODIFIED:20171102T164302Z
UID:3689-1516870800-1516870800@rairc.com
SUMMARY:Complete Credit & Credit Repair Guide - Grant Simon
DESCRIPTION:Credit scores can have a significant impact on your consumerâ€™s financial  life. Lenders rely on scores extensively in decision making\, including the  initial decisions of whether to lend and what loan terms to offer\, for most  types of credit\, including mortgages.  This program provides the Realtor  with a deeper understanding of Credit\, Credit Scores and the effect on their  clients. Youâ€™ll learn what steps your customers need to take in order to  achieve better credit\, or repair existing bad credit.
URL:https://rairc.com/event/01-25-2018-completecreditandcreditrepairguide-grantsimon/
CATEGORIES:
END:VEVENT
BEGIN:VEVENT
DTSTART;TZID=America/New_York:20180125T130000
DTEND;TZID=America/New_York:20180125T130000
DTSTAMP:20260421T061639
CREATED:20171102T164301Z
LAST-MODIFIED:20171102T164301Z
UID:3687-1516885200-1516885200@rairc.com
SUMMARY:And Then There Were 4: A Realtor's Guide to Four Financing Options - Grant Simon
DESCRIPTION:In conjunction with the Consumer Financial Protection Bureau’s (CFPB) easier to use mortgage disclosures that clearly layout the terms of a mortgage for a homebuyer. This course is designed to help you understand the 4 choices a consumer has. You’ll be able to provide your customers with a step by step guide in the mortgage program selection process. There are many different mortgages that will meet your customer’s needs. This course will focus on the Big Four; VA\, USDA\, FHA and Conventional.  The first three are government backed mortgages and last but not least is mortgages that are backed by government sponsored enterprises (GSE).
URL:https://rairc.com/event/01-25-2018-andthentherewere4:arealtorsguidetofourfinancingoptions-grantsimon/
CATEGORIES:
END:VEVENT
END:VCALENDAR