BEGIN:VCALENDAR
VERSION:2.0
PRODID:-//RAIRC - ECPv6.15.15//NONSGML v1.0//EN
CALSCALE:GREGORIAN
METHOD:PUBLISH
X-WR-CALNAME:RAIRC
X-ORIGINAL-URL:https://rairc.com
X-WR-CALDESC:Events for RAIRC
REFRESH-INTERVAL;VALUE=DURATION:PT1H
X-Robots-Tag:noindex
X-PUBLISHED-TTL:PT1H
BEGIN:VTIMEZONE
TZID:America/New_York
BEGIN:DAYLIGHT
TZOFFSETFROM:-0500
TZOFFSETTO:-0400
TZNAME:EDT
DTSTART:20160313T070000
END:DAYLIGHT
BEGIN:STANDARD
TZOFFSETFROM:-0400
TZOFFSETTO:-0500
TZNAME:EST
DTSTART:20161106T060000
END:STANDARD
BEGIN:DAYLIGHT
TZOFFSETFROM:-0500
TZOFFSETTO:-0400
TZNAME:EDT
DTSTART:20170312T070000
END:DAYLIGHT
BEGIN:STANDARD
TZOFFSETFROM:-0400
TZOFFSETTO:-0500
TZNAME:EST
DTSTART:20171105T060000
END:STANDARD
BEGIN:DAYLIGHT
TZOFFSETFROM:-0500
TZOFFSETTO:-0400
TZNAME:EDT
DTSTART:20180311T070000
END:DAYLIGHT
BEGIN:STANDARD
TZOFFSETFROM:-0400
TZOFFSETTO:-0500
TZNAME:EST
DTSTART:20181104T060000
END:STANDARD
END:VTIMEZONE
BEGIN:VEVENT
DTSTART;TZID=America/New_York:20171207T100000
DTEND;TZID=America/New_York:20171207T100000
DTSTAMP:20260422T212055
CREATED:20171111T015534Z
LAST-MODIFIED:20171111T015534Z
UID:3701-1512640800-1512640800@rairc.com
SUMMARY:MLS Training - Centralized Showing Service
DESCRIPTION:High Tech Meets Personal Service: The New Standard \n Centralized Showing Service (CSS) is an essential part of an agentâ€™s daily  life. Itâ€™s about the seamless integration of personal service and  user-friendly technology that delivers accurate information in real-time\,  every day. Imagine the time saved by calling ONE phone number to schedule an  entire day of showing appointments. Instead of playing phone tag\, Showing  Agents can schedule an entire day of showings in just a few minutes with ONE  call\, saving time and effort. Because showings on listings with CSS are so  easy to schedule\, Listing Agents benefit by more showings on their listings.  More showings support quicker sales.
URL:https://rairc.com/event/12-07-2017-mlstraining-centralizedshowingservice/
CATEGORIES:
END:VEVENT
END:VCALENDAR