BEGIN:VCALENDAR
VERSION:2.0
PRODID:-//RAIRC - ECPv6.15.15//NONSGML v1.0//EN
CALSCALE:GREGORIAN
METHOD:PUBLISH
X-ORIGINAL-URL:https://rairc.com
X-WR-CALDESC:Events for RAIRC
REFRESH-INTERVAL;VALUE=DURATION:PT1H
X-Robots-Tag:noindex
X-PUBLISHED-TTL:PT1H
BEGIN:VTIMEZONE
TZID:America/New_York
BEGIN:DAYLIGHT
TZOFFSETFROM:-0500
TZOFFSETTO:-0400
TZNAME:EDT
DTSTART:20160313T070000
END:DAYLIGHT
BEGIN:STANDARD
TZOFFSETFROM:-0400
TZOFFSETTO:-0500
TZNAME:EST
DTSTART:20161106T060000
END:STANDARD
BEGIN:DAYLIGHT
TZOFFSETFROM:-0500
TZOFFSETTO:-0400
TZNAME:EDT
DTSTART:20170312T070000
END:DAYLIGHT
BEGIN:STANDARD
TZOFFSETFROM:-0400
TZOFFSETTO:-0500
TZNAME:EST
DTSTART:20171105T060000
END:STANDARD
BEGIN:DAYLIGHT
TZOFFSETFROM:-0500
TZOFFSETTO:-0400
TZNAME:EDT
DTSTART:20180311T070000
END:DAYLIGHT
BEGIN:STANDARD
TZOFFSETFROM:-0400
TZOFFSETTO:-0500
TZNAME:EST
DTSTART:20181104T060000
END:STANDARD
END:VTIMEZONE
BEGIN:VEVENT
DTSTART;TZID=America/New_York:20170411T130000
DTEND;TZID=America/New_York:20170411T130000
DTSTAMP:20260423T080853
CREATED:20170112T080411Z
LAST-MODIFIED:20170112T080721Z
UID:3298-1491915600-1491915600@rairc.com
SUMMARY:Real Estate Safety Matters w/ Richard Fryer
DESCRIPTION:Developed in partnership with NAR’s REALTOR Safety program\, this three-hour course is an essential primer on how real estate professionals can limit risk to preserve safety- their safety\, their clients safety- and for positive business outcomes. Students will learn how to assess risk in their current practice and create safety systems\, scripts\, and tools for listing appointments\, showing property\, and conducting open houses. Students will also learn how to protect personal and electronic information online\, in the cloud\, and on social networks. As a practical resource\, this course offers easy to remember strategies for real estate professionals when facing potentially dangerous situations.  \n Instructor: Richard Fryer
URL:https://rairc.com/event/04-11-2017-realestatesafetymattersw-richardfryer/
CATEGORIES:,Continuing Education
END:VEVENT
END:VCALENDAR