BEGIN:VCALENDAR
VERSION:2.0
PRODID:-//RAIRC - ECPv6.15.15//NONSGML v1.0//EN
CALSCALE:GREGORIAN
METHOD:PUBLISH
X-ORIGINAL-URL:https://rairc.com
X-WR-CALDESC:Events for RAIRC
REFRESH-INTERVAL;VALUE=DURATION:PT1H
X-Robots-Tag:noindex
X-PUBLISHED-TTL:PT1H
BEGIN:VTIMEZONE
TZID:America/New_York
BEGIN:DAYLIGHT
TZOFFSETFROM:-0500
TZOFFSETTO:-0400
TZNAME:EDT
DTSTART:20160313T070000
END:DAYLIGHT
BEGIN:STANDARD
TZOFFSETFROM:-0400
TZOFFSETTO:-0500
TZNAME:EST
DTSTART:20161106T060000
END:STANDARD
BEGIN:DAYLIGHT
TZOFFSETFROM:-0500
TZOFFSETTO:-0400
TZNAME:EDT
DTSTART:20170312T070000
END:DAYLIGHT
BEGIN:STANDARD
TZOFFSETFROM:-0400
TZOFFSETTO:-0500
TZNAME:EST
DTSTART:20171105T060000
END:STANDARD
BEGIN:DAYLIGHT
TZOFFSETFROM:-0500
TZOFFSETTO:-0400
TZNAME:EDT
DTSTART:20180311T070000
END:DAYLIGHT
BEGIN:STANDARD
TZOFFSETFROM:-0400
TZOFFSETTO:-0500
TZNAME:EST
DTSTART:20181104T060000
END:STANDARD
END:VTIMEZONE
BEGIN:VEVENT
DTSTART;TZID=America/New_York:20170404T130000
DTEND;TZID=America/New_York:20170404T130000
DTSTAMP:20260422T033645
CREATED:20170112T080410Z
LAST-MODIFIED:20170112T080731Z
UID:3277-1491310800-1491310800@rairc.com
SUMMARY:De-Mystifying the Appraisal Process
DESCRIPTION:This program educates today’s real estate consumer on the appraisal process\, through the Realtor. With so many short sales and foreclosures\, today’s appraisal values (and consumer tempers) can be all over the place. Consumers want to make sure they are getting ‘a good deal’ and may sometimes feel that they should be paying less than a listeted price\, or wonder why their ‘low ball’ offer on the short sale wasn’t accepted. This course provides the Realtor with the insight and expertise to work with their customer in understanding a home’s appraised value in today’s market.\n Class is 1:00 – 4:00 PM. Course earns 3 CE’s.\n Instructor: Julianna Giordano\n Sponsor: TBD
URL:https://rairc.com/event/04-04-2017-de-mystifyingtheappraisalprocess/
CATEGORIES:,Continuing Education
END:VEVENT
END:VCALENDAR